Name | Last modified | Size | Description | |
---|---|---|---|---|
Parent Directory | - | |||
buildbin-out.txt | 24-Jul-2024 22:04 | 1.4K | ||
buildbin-summary.dcf | 24-Jul-2024 22:04 | 509 | ||
buildsrc-out.txt | 24-Jul-2024 22:04 | 885 | ||
buildsrc-summary.dcf | 24-Jul-2024 22:04 | 449 | ||
checksrc-out.txt | 24-Jul-2024 22:04 | 6.4K | ||
checksrc-summary.dcf | 24-Jul-2024 22:04 | 449 | ||
install-out.txt | 24-Jul-2024 22:04 | 1.3K | ||
install-summary.dcf | 24-Jul-2024 22:04 | 266 | ||