Back to Multiple platform build/check report for BioC 3.14
ABCDE[F]GHIJKLMNOPQRSTUVWXYZ

This page was generated on 2021-11-26 15:05:17 -0500 (Fri, 26 Nov 2021).

BUILD results for FlowSOM on tokay2

To the developers/maintainers of the FlowSOM package:
- Please allow up to 24 hours (and sometimes 48 hours) for your latest push to git@git.bioconductor.org:packages/FlowSOM.git to
reflect on this report. See How and When does the builder pull? When will my changes propagate? here for more information.
- Make sure to use the following settings in order to reproduce any error or warning you see on this page.

raw results

Package 670/2083HostnameOS / ArchINSTALLBUILDCHECKBUILD BIN
FlowSOM 2.2.0  (landing page)
Sofie Van Gassen
Snapshot Date: 2021-11-25 04:15:05 -0500 (Thu, 25 Nov 2021)
git_url: https://git.bioconductor.org/packages/FlowSOM
git_branch: RELEASE_3_14
git_last_commit: 44e9c9b
git_last_commit_date: 2021-10-26 12:18:07 -0500 (Tue, 26 Oct 2021)
nebbiolo2Linux (Ubuntu 20.04.3 LTS) / x86_64  OK    OK    OK  UNNEEDED, same version is already published
tokay2Windows Server 2012 R2 Standard / x64  OK    OK    OK    OK  UNNEEDED, same version is already published
machv2macOS 10.14.6 Mojave / x86_64  OK    OK    OK    OK  UNNEEDED, same version is already published

Summary

Package: FlowSOM
Version: 2.2.0
Command: chmod a+r FlowSOM -R && C:\Users\biocbuild\bbs-3.14-bioc\R\bin\R.exe CMD build --keep-empty-dirs --no-resave-data FlowSOM
StartedAt: 2021-11-25 13:08:28 -0500 (Thu, 25 Nov 2021)
EndedAt: 2021-11-25 13:10:55 -0500 (Thu, 25 Nov 2021)
EllapsedTime: 147.1 seconds
RetCode: 0
Status:   OK  
PackageFile: FlowSOM_2.2.0.tar.gz
PackageFileSize: 5.794 MiB

Command output

##############################################################################
##############################################################################
###
### Running command:
###
###   chmod a+r FlowSOM -R && C:\Users\biocbuild\bbs-3.14-bioc\R\bin\R.exe CMD build --keep-empty-dirs --no-resave-data FlowSOM
###
##############################################################################
##############################################################################


* checking for file 'FlowSOM/DESCRIPTION' ... OK
* preparing 'FlowSOM':
* checking DESCRIPTION meta-information ... OK
* cleaning src
* installing the package to build vignettes
* creating vignettes ... OK
* cleaning src
* checking for LF line-endings in source and make files and shell scripts
* checking for empty or unneeded directories
Omitted 'LazyData' from DESCRIPTION
* building 'FlowSOM_2.2.0.tar.gz'