Back to Multiple platform build/check report for BioC 3.12
ABCDE[F]GHIJKLMNOPQRSTUVWXYZ

BUILD report for FlowSOM on malbec1

This page was generated on 2021-01-19 11:51:49 -0500 (Tue, 19 Jan 2021).

TO THE DEVELOPERS/MAINTAINERS OF THE FlowSOM PACKAGE: Please make sure to use the following settings in order to reproduce any error or warning you see on this page.
Package 631/1974HostnameOS / ArchINSTALLBUILDCHECKBUILD BIN
FlowSOM 1.22.0
Sofie Van Gassen
Snapshot Date: 2021-01-18 14:42:24 -0500 (Mon, 18 Jan 2021)
URL: https://git.bioconductor.org/packages/FlowSOM
Branch: RELEASE_3_12
Last Commit: 89cd5ba
Last Changed Date: 2020-10-27 11:01:34 -0500 (Tue, 27 Oct 2020)
malbec1 Linux (Ubuntu 18.04.5 LTS) / x86_64  OK [ OK ] OK UNNEEDED, same version exists in internal repository
nebbiolo1 Linux (Ubuntu 20.04.1 LTS) / x86_64  OK  OK  OK 
tokay1 Windows Server 2012 R2 Standard / x64  OK  OK  OK  OK UNNEEDED, same version exists in internal repository
merida1 macOS 10.14.6 Mojave / x86_64  OK  OK  WARNINGS  OK UNNEEDED, same version exists in internal repository

Summary

Package: FlowSOM
Version: 1.22.0
Command: /home/biocbuild/bbs-3.12-bioc/R/bin/R CMD build --keep-empty-dirs --no-resave-data FlowSOM
StartedAt: 2021-01-18 19:30:56 -0500 (Mon, 18 Jan 2021)
EndedAt: 2021-01-18 19:31:44 -0500 (Mon, 18 Jan 2021)
EllapsedTime: 48.0 seconds
RetCode: 0
Status:  OK 
PackageFile: FlowSOM_1.22.0.tar.gz
PackageFileSize: 2.45 MiB

Command output

##############################################################################
##############################################################################
###
### Running command:
###
###   /home/biocbuild/bbs-3.12-bioc/R/bin/R CMD build --keep-empty-dirs --no-resave-data FlowSOM
###
##############################################################################
##############################################################################


* checking for file ‘FlowSOM/DESCRIPTION’ ... OK
* preparing ‘FlowSOM’:
* checking DESCRIPTION meta-information ... OK
* cleaning src
* installing the package to build vignettes
* creating vignettes ... OK
* cleaning src
* checking for LF line-endings in source and make files and shell scripts
* checking for empty or unneeded directories
* building ‘FlowSOM_1.22.0.tar.gz’