Back to Multiple platform build/check report for BioC 3.14
ABCDE[F]GHIJKLMNOPQRSTUVWXYZ

This page was generated on 2021-12-06 13:05:57 -0500 (Mon, 06 Dec 2021).

BUILD BIN results for FlowSOM on machv2

To the developers/maintainers of the FlowSOM package:
- Please allow up to 24 hours (and sometimes 48 hours) for your latest push to git@git.bioconductor.org:packages/FlowSOM.git to
reflect on this report. See How and When does the builder pull? When will my changes propagate? here for more information.
- Make sure to use the following settings in order to reproduce any error or warning you see on this page.

raw results

Package 670/2083HostnameOS / ArchINSTALLBUILDCHECKBUILD BIN
FlowSOM 2.2.0  (landing page)
Sofie Van Gassen
Snapshot Date: 2021-12-05 01:55:05 -0500 (Sun, 05 Dec 2021)
git_url: https://git.bioconductor.org/packages/FlowSOM
git_branch: RELEASE_3_14
git_last_commit: 44e9c9b
git_last_commit_date: 2021-10-26 12:18:07 -0500 (Tue, 26 Oct 2021)
nebbiolo2Linux (Ubuntu 20.04.3 LTS) / x86_64  OK    OK    OK  UNNEEDED, same version is already published
tokay2Windows Server 2012 R2 Standard / x64  OK    OK    OK    OK  UNNEEDED, same version is already published
machv2macOS 10.14.6 Mojave / x86_64  OK    OK    OK    OK  UNNEEDED, same version is already published

Summary

Package: FlowSOM
Version: 2.2.0
Command: rm -rf FlowSOM.buildbin-libdir && mkdir FlowSOM.buildbin-libdir && /Users/biocbuild/BBS/utils/build-universal.sh FlowSOM_2.2.0.tar.gz /Library/Frameworks/R.framework/Resources/bin/R FlowSOM.buildbin-libdir
StartedAt: 2021-12-05 22:12:00 -0500 (Sun, 05 Dec 2021)
EndedAt: 2021-12-05 22:13:04 -0500 (Sun, 05 Dec 2021)
EllapsedTime: 63.8 seconds
RetCode: 0
Status:   OK  
PackageFile: FlowSOM_2.2.0.tgz
PackageFileSize: 6.081 MiB

Command output

##############################################################################
##############################################################################
###
### Running command:
###
###   rm -rf FlowSOM.buildbin-libdir && mkdir FlowSOM.buildbin-libdir && /Users/biocbuild/BBS/utils/build-universal.sh FlowSOM_2.2.0.tar.gz /Library/Frameworks/R.framework/Resources/bin/R FlowSOM.buildbin-libdir
###
##############################################################################
##############################################################################


>>>>>>> 
>>>>>>> INSTALLATION WITH 'R CMD INSTALL --preclean --no-multiarch --library=FlowSOM.buildbin-libdir FlowSOM_2.2.0.tar.gz'
>>>>>>> 

* installing *source* package ‘FlowSOM’ ...
** using staged installation
** libs
clang -mmacosx-version-min=10.13 -I"/Library/Frameworks/R.framework/Resources/include" -DNDEBUG   -I/usr/local/include   -fPIC  -Wall -g -O2  -c som.c -o som.o
clang -mmacosx-version-min=10.13 -dynamiclib -Wl,-headerpad_max_install_names -undefined dynamic_lookup -single_module -multiply_defined suppress -L/Library/Frameworks/R.framework/Resources/lib -L/usr/local/lib -o FlowSOM.so som.o -F/Library/Frameworks/R.framework/.. -framework R -Wl,-framework -Wl,CoreFoundation
installing to /Users/biocbuild/bbs-3.14-bioc/meat/FlowSOM.buildbin-libdir/00LOCK-FlowSOM/00new/FlowSOM/libs
** R
** inst
** byte-compile and prepare package for lazy loading
** help
*** installing help indices
** building package indices
** installing vignettes
** testing if installed package can be loaded from temporary location
** checking absolute paths in shared objects and dynamic libraries
** testing if installed package can be loaded from final location
** testing if installed package keeps a record of temporary installation path
* DONE (FlowSOM)


>>>>>>> 
>>>>>>> FIXING LINKS FOR FlowSOM.buildbin-libdir/FlowSOM/libs/FlowSOM.so
>>>>>>> 

install_name_tool -change "/usr/local/lib/libgcc_s.1.dylib" "/Library/Frameworks/R.framework/Versions/4.1/Resources/lib/libgcc_s.1.dylib" "FlowSOM.buildbin-libdir/FlowSOM/libs/FlowSOM.so"
install_name_tool -change "/usr/local/lib/libgfortran.5.dylib" "/Library/Frameworks/R.framework/Versions/4.1/Resources/lib/libgfortran.5.dylib" "FlowSOM.buildbin-libdir/FlowSOM/libs/FlowSOM.so"
install_name_tool -change "/usr/local/lib/libquadmath.0.dylib" "/Library/Frameworks/R.framework/Versions/4.1/Resources/lib/libquadmath.0.dylib" "FlowSOM.buildbin-libdir/FlowSOM/libs/FlowSOM.so"