Back to Multiple platform build/check report for BioC 3.12
ABCDE[F]GHIJKLMNOPQRSTUVWXYZ

BUILD BIN report for FitHiC on tokay1

This page was generated on 2021-02-22 12:38:10 -0500 (Mon, 22 Feb 2021).

To the developers/maintainers of the FitHiC package:
Please make sure to use the following settings in order to reproduce any error or warning you see on this page.
Package 607/1974HostnameOS / ArchINSTALLBUILDCHECKBUILD BIN
FitHiC 1.16.0
Ruyu Tan
Snapshot Date: 2021-02-21 14:52:07 -0500 (Sun, 21 Feb 2021)
URL: https://git.bioconductor.org/packages/FitHiC
Branch: RELEASE_3_12
Last Commit: 14c0247
Last Changed Date: 2020-10-27 11:17:56 -0500 (Tue, 27 Oct 2020)
malbec1Linux (Ubuntu 18.04.5 LTS) / x86_64  OK    OK    OK  UNNEEDED, same version exists in internal repository
nebbiolo1Linux (Ubuntu 20.04.2 LTS) / x86_64  OK    OK    OK  
tokay1Windows Server 2012 R2 Standard / x64  OK    OK    OK    OK  UNNEEDED, same version exists in internal repository
merida1macOS 10.14.6 Mojave / x86_64  OK    OK    OK    OK  UNNEEDED, same version exists in internal repository

Summary

Package: FitHiC
Version: 1.16.0
Command: rm -rf FitHiC.buildbin-libdir && mkdir FitHiC.buildbin-libdir && C:\Users\biocbuild\bbs-3.12-bioc\R\bin\R.exe CMD INSTALL --merge-multiarch --build --library=FitHiC.buildbin-libdir FitHiC_1.16.0.tar.gz
StartedAt: 2021-02-22 09:14:43 -0500 (Mon, 22 Feb 2021)
EndedAt: 2021-02-22 09:16:19 -0500 (Mon, 22 Feb 2021)
EllapsedTime: 96.3 seconds
RetCode: 0
Status:   OK   
PackageFile: FitHiC_1.16.0.zip
PackageFileSize: 27.78 MiB

Command output

##############################################################################
##############################################################################
###
### Running command:
###
###   rm -rf FitHiC.buildbin-libdir && mkdir FitHiC.buildbin-libdir && C:\Users\biocbuild\bbs-3.12-bioc\R\bin\R.exe CMD INSTALL --merge-multiarch --build --library=FitHiC.buildbin-libdir FitHiC_1.16.0.tar.gz
###
##############################################################################
##############################################################################



install for i386

* installing *source* package 'FitHiC' ...
** using staged installation
** libs
"C:/rtools40/mingw32/bin/"gcc  -I"C:/Users/BIOCBU~1/BBS-3~1.12-/R/include" -DNDEBUG  -I'C:/Users/biocbuild/bbs-3.12-bioc/R/library/Rcpp/include'   -I"C:/extsoft/include"     -O2 -Wall  -std=gnu99 -mfpmath=sse -msse2 -mstackrealign -c FitHiC_init.c -o FitHiC_init.o
"C:/rtools40/mingw32/bin/"g++ -std=gnu++11  -I"C:/Users/BIOCBU~1/BBS-3~1.12-/R/include" -DNDEBUG  -I'C:/Users/biocbuild/bbs-3.12-bioc/R/library/Rcpp/include'   -I"C:/extsoft/include"     -O2 -Wall  -mfpmath=sse -msse2 -mstackrealign -c RcppExports.cpp -o RcppExports.o
"C:/rtools40/mingw32/bin/"g++ -std=gnu++11  -I"C:/Users/BIOCBU~1/BBS-3~1.12-/R/include" -DNDEBUG  -I'C:/Users/biocbuild/bbs-3.12-bioc/R/library/Rcpp/include'   -I"C:/extsoft/include"     -O2 -Wall  -mfpmath=sse -msse2 -mstackrealign -c helper.cpp -o helper.o
C:/rtools40/mingw32/bin/g++ -std=gnu++11 -shared -s -static-libgcc -o FitHiC.dll tmp.def FitHiC_init.o RcppExports.o helper.o -LC:/extsoft/lib/i386 -LC:/extsoft/lib -LC:/Users/BIOCBU~1/BBS-3~1.12-/R/bin/i386 -lR
installing to C:/Users/biocbuild/bbs-3.12-bioc/meat/FitHiC.buildbin-libdir/00LOCK-FitHiC/00new/FitHiC/libs/i386
** R
** inst
** byte-compile and prepare package for lazy loading
** help
*** installing help indices
  converting help for package 'FitHiC'
    finding HTML links ... done
    FitHiC                                  html  
** building package indices
** installing vignettes
** testing if installed package can be loaded from temporary location
** testing if installed package can be loaded from final location
** testing if installed package keeps a record of temporary installation path

install for x64

* installing *source* package 'FitHiC' ...
** libs
"C:/rtools40/mingw64/bin/"gcc  -I"C:/Users/BIOCBU~1/BBS-3~1.12-/R/include" -DNDEBUG  -I'C:/Users/biocbuild/bbs-3.12-bioc/R/library/Rcpp/include'   -I"C:/extsoft/include"     -O2 -Wall  -std=gnu99 -mfpmath=sse -msse2 -mstackrealign -c FitHiC_init.c -o FitHiC_init.o
"C:/rtools40/mingw64/bin/"g++ -std=gnu++11  -I"C:/Users/BIOCBU~1/BBS-3~1.12-/R/include" -DNDEBUG  -I'C:/Users/biocbuild/bbs-3.12-bioc/R/library/Rcpp/include'   -I"C:/extsoft/include"     -O2 -Wall  -mfpmath=sse -msse2 -mstackrealign -c RcppExports.cpp -o RcppExports.o
"C:/rtools40/mingw64/bin/"g++ -std=gnu++11  -I"C:/Users/BIOCBU~1/BBS-3~1.12-/R/include" -DNDEBUG  -I'C:/Users/biocbuild/bbs-3.12-bioc/R/library/Rcpp/include'   -I"C:/extsoft/include"     -O2 -Wall  -mfpmath=sse -msse2 -mstackrealign -c helper.cpp -o helper.o
C:/rtools40/mingw64/bin/g++ -std=gnu++11 -shared -s -static-libgcc -o FitHiC.dll tmp.def FitHiC_init.o RcppExports.o helper.o -LC:/extsoft/lib/x64 -LC:/extsoft/lib -LC:/Users/BIOCBU~1/BBS-3~1.12-/R/bin/x64 -lR
installing to C:/Users/biocbuild/bbs-3.12-bioc/meat/FitHiC.buildbin-libdir/FitHiC/libs/x64
** testing if installed package can be loaded
* MD5 sums
packaged installation of 'FitHiC' as FitHiC_1.16.0.zip
* DONE (FitHiC)