Back to Multiple platform build/check report for BioC 3.12
ABCDE[F]GHIJKLMNOPQRSTUVWXYZ

Multiple platform build/check report for BioC 3.12

Results for FitHiC

This page was generated on 2021-01-25 11:47:38 -0500 (Mon, 25 Jan 2021).

Package 607/1974HostnameOS / ArchINSTALLBUILDCHECKBUILD BIN
FitHiC 1.16.0
Ruyu Tan
Snapshot Date: 2021-01-24 14:40:16 -0500 (Sun, 24 Jan 2021)
URL: https://git.bioconductor.org/packages/FitHiC
Branch: RELEASE_3_12
Last Commit: 14c0247
Last Changed Date: 2020-10-27 11:17:56 -0500 (Tue, 27 Oct 2020)
malbec1 Linux (Ubuntu 18.04.5 LTS) / x86_64  OK  OK  OK UNNEEDED, same version exists in internal repository
nebbiolo1 Linux (Ubuntu 20.04.1 LTS) / x86_64  OK  OK  OK 
tokay1 Windows Server 2012 R2 Standard / x64  OK  OK  OK  OK UNNEEDED, same version exists in internal repository
merida1 macOS 10.14.6 Mojave / x86_64  OK  OK  OK  OK UNNEEDED, same version exists in internal repository