Name | Last modified | Size | Description | |
---|---|---|---|---|
Parent Directory | - | |||
buildbin-out.txt | 26-Jun-2024 06:42 | 6.1K | ||
buildbin-summary.dcf | 26-Jun-2024 06:42 | 522 | ||
buildsrc-out.txt | 26-Jun-2024 06:42 | 841 | ||
buildsrc-summary.dcf | 26-Jun-2024 06:42 | 423 | ||
checksrc-out.txt | 26-Jun-2024 06:42 | 5.2K | ||
checksrc-summary.dcf | 26-Jun-2024 06:42 | 448 | ||
install-out.txt | 26-Jun-2024 06:42 | 2.6K | ||
install-summary.dcf | 26-Jun-2024 06:42 | 267 | ||