Name | Last modified | Size | Description | |
---|---|---|---|---|
Parent Directory | - | |||
checksrc-out.txt | 22-Jun-2024 06:38 | 4.5K | ||
install-out.txt | 22-Jun-2024 06:38 | 954 | ||
buildsrc-out.txt | 22-Jun-2024 06:38 | 861 | ||
buildsrc-summary.dcf | 22-Jun-2024 06:38 | 413 | ||
checksrc-summary.dcf | 22-Jun-2024 06:38 | 407 | ||
install-summary.dcf | 22-Jun-2024 06:38 | 255 | ||