Name | Last modified | Size | Description | |
---|---|---|---|---|
Parent Directory | - | |||
install-summary.dcf | 05-Mar-2024 01:39 | 265 | ||
buildsrc-summary.dcf | 05-Mar-2024 01:39 | 346 | ||
checksrc-summary.dcf | 17-Feb-2024 02:51 | 436 | ||
buildbin-summary.dcf | 15-Feb-2024 03:20 | 518 | ||
buildsrc-out.txt | 05-Mar-2024 01:39 | 647 | ||
install-out.txt | 05-Mar-2024 01:39 | 1.0K | ||
buildbin-out.txt | 15-Feb-2024 03:20 | 1.1K | ||
checksrc-out.txt | 17-Feb-2024 02:51 | 4.7K | ||