Back to Multiple platform build/check report for BioC 3.16
ABCDE[F]GHIJKLMNOPQRSTUVWXYZ

This page was generated on 2023-02-01 11:06:55 -0500 (Wed, 01 Feb 2023).

HostnameOSArch (*)R versionInstalled pkgs
nebbiolo2Linux (Ubuntu 20.04.5 LTS)x86_644.2.2 (2022-10-31) -- "Innocent and Trusting" 4511
palomino4Windows Server 2022 Datacenterx644.2.2 (2022-10-31 ucrt) -- "Innocent and Trusting" 4289
lconwaymacOS 12.5.1 Montereyx86_644.2.2 (2022-10-31) -- "Innocent and Trusting" 4318
Click on any hostname to see more info about the system (e.g. compilers)      (*) as reported by 'uname -p', except on Windows and Mac OS X

CHECK results for FEAST on palomino4


To the developers/maintainers of the FEAST package:
- Please allow up to 24 hours (and sometimes 48 hours) for your latest push to git@git.bioconductor.org:packages/FEAST.git to
reflect on this report. See How and When does the builder pull? When will my changes propagate? for more information.
- Make sure to use the following settings in order to reproduce any error or warning you see on this page.

raw results

Package 669/2183HostnameOS / ArchINSTALLBUILDCHECKBUILD BIN
FEAST 1.6.0  (landing page)
Kenong Su
Snapshot Date: 2023-01-31 14:00:04 -0500 (Tue, 31 Jan 2023)
git_url: https://git.bioconductor.org/packages/FEAST
git_branch: RELEASE_3_16
git_last_commit: 7d99b9d
git_last_commit_date: 2022-11-01 11:24:45 -0500 (Tue, 01 Nov 2022)
nebbiolo2Linux (Ubuntu 20.04.5 LTS) / x86_64  OK    OK    OK  UNNEEDED, same version is already published
palomino4Windows Server 2022 Datacenter / x64  OK    OK    OK    OK  UNNEEDED, same version is already published
lconwaymacOS 12.5.1 Monterey / x86_64  OK    OK    OK    OK  UNNEEDED, same version is already published

Summary

Package: FEAST
Version: 1.6.0
Command: F:\biocbuild\bbs-3.16-bioc\R\bin\R.exe CMD check --no-multiarch --install=check:FEAST.install-out.txt --library=F:\biocbuild\bbs-3.16-bioc\R\library --no-vignettes --timings FEAST_1.6.0.tar.gz
StartedAt: 2023-02-01 01:31:34 -0500 (Wed, 01 Feb 2023)
EndedAt: 2023-02-01 01:34:39 -0500 (Wed, 01 Feb 2023)
EllapsedTime: 184.9 seconds
RetCode: 0
Status:   OK  
CheckDir: FEAST.Rcheck
Warnings: 0

Command output

##############################################################################
##############################################################################
###
### Running command:
###
###   F:\biocbuild\bbs-3.16-bioc\R\bin\R.exe CMD check --no-multiarch --install=check:FEAST.install-out.txt --library=F:\biocbuild\bbs-3.16-bioc\R\library --no-vignettes --timings FEAST_1.6.0.tar.gz
###
##############################################################################
##############################################################################


* using log directory 'F:/biocbuild/bbs-3.16-bioc/meat/FEAST.Rcheck'
* using R version 4.2.2 (2022-10-31 ucrt)
* using platform: x86_64-w64-mingw32 (64-bit)
* using session charset: UTF-8
* using option '--no-vignettes'
* checking for file 'FEAST/DESCRIPTION' ... OK
* checking extension type ... Package
* this is package 'FEAST' version '1.6.0'
* package encoding: UTF-8
* checking package namespace information ... OK
* checking package dependencies ... OK
* checking if this is a source package ... OK
* checking if there is a namespace ... OK
* checking for hidden files and directories ... OK
* checking for portable file names ... OK
* checking whether package 'FEAST' can be installed ... OK
* checking installed package size ... NOTE
  installed size is  5.6Mb
  sub-directories of 1Mb or more:
    data   3.9Mb
    doc    1.5Mb
* checking package directory ... OK
* checking 'build' directory ... OK
* checking DESCRIPTION meta-information ... OK
* checking top-level files ... OK
* checking for left-over files ... OK
* checking index information ... OK
* checking package subdirectories ... OK
* checking R files for non-ASCII characters ... OK
* checking R files for syntax errors ... OK
* checking whether the package can be loaded ... OK
* checking whether the package can be loaded with stated dependencies ... OK
* checking whether the package can be unloaded cleanly ... OK
* checking whether the namespace can be loaded with stated dependencies ... OK
* checking whether the namespace can be unloaded cleanly ... OK
* checking dependencies in R code ... OK
* checking S3 generic/method consistency ... OK
* checking replacement functions ... OK
* checking foreign function calls ... OK
* checking R code for possible problems ... NOTE
FEAST: multiple local function definitions for 'bp_fun' with different
  formal arguments
SC3_Clust: no visible global function definition for 'metadata'
Visual_Rslt: no visible global function definition for 'ggbarplot'
Visual_Rslt: no visible global function definition for 'theme'
Visual_Rslt: no visible global function definition for 'element_text'
Visual_Rslt: no visible global function definition for 'ggline'
Visual_Rslt: no visible global function definition for 'get_palette'
Visual_Rslt: no visible global function definition for
  'scale_y_continuous'
Visual_Rslt: no visible global function definition for 'guides'
Visual_Rslt: no visible global function definition for 'guide_legend'
Visual_Rslt: no visible global function definition for 'ggarrange'
aricode_NMI : entropy: no visible global function definition for
  'sortPairs'
Undefined global functions or variables:
  element_text get_palette ggarrange ggbarplot ggline guide_legend
  guides metadata scale_y_continuous sortPairs theme
* checking Rd files ... OK
* checking Rd metadata ... OK
* checking Rd cross-references ... OK
* checking for missing documentation entries ... OK
* checking for code/documentation mismatches ... OK
* checking Rd \usage sections ... OK
* checking Rd contents ... OK
* checking for unstated dependencies in examples ... OK
* checking contents of 'data' directory ... OK
* checking data for non-ASCII characters ... OK
* checking LazyData ... OK
* checking data for ASCII and uncompressed saves ... OK
* checking line endings in C/C++/Fortran sources/headers ... OK
* checking compiled code ... NOTE
Note: information on .o files for x64 is not available
File 'F:/biocbuild/bbs-3.16-bioc/R/library/FEAST/libs/x64/FEAST.dll':
  Found 'abort', possibly from 'abort' (C), 'runtime' (Fortran)

Compiled code should not call entry points which might terminate R nor
write to stdout/stderr instead of to the console, nor use Fortran I/O
nor system RNGs. The detected symbols are linked into the code but
might come from libraries and not actually be called.

See 'Writing portable packages' in the 'Writing R Extensions' manual.
* checking installed files from 'inst/doc' ... OK
* checking files in 'vignettes' ... OK
* checking examples ... OK
* checking for unstated dependencies in vignettes ... OK
* checking package vignettes in 'inst/doc' ... OK
* checking running R code from vignettes ... SKIPPED
* checking re-building of vignette outputs ... SKIPPED
* checking PDF version of manual ... OK
* DONE

Status: 3 NOTEs
See
  'F:/biocbuild/bbs-3.16-bioc/meat/FEAST.Rcheck/00check.log'
for details.



Installation output

FEAST.Rcheck/00install.out

##############################################################################
##############################################################################
###
### Running command:
###
###   F:\biocbuild\bbs-3.16-bioc\R\bin\R.exe CMD INSTALL FEAST
###
##############################################################################
##############################################################################


* installing to library 'F:/biocbuild/bbs-3.16-bioc/R/library'
* installing *source* package 'FEAST' ...
** using staged installation
** libs
gcc  -I"F:/biocbuild/bbs-3.16-bioc/R/include" -DNDEBUG     -I"C:/rtools42/x86_64-w64-mingw32.static.posix/include"     -O2 -Wall  -std=gnu99 -mfpmath=sse -msse2 -mstackrealign  -c cal_3_metrics.c -o cal_3_metrics.o
gcc -shared -s -static-libgcc -o FEAST.dll tmp.def cal_3_metrics.o -LC:/rtools42/x86_64-w64-mingw32.static.posix/lib/x64 -LC:/rtools42/x86_64-w64-mingw32.static.posix/lib -LF:/biocbuild/bbs-3.16-bioc/R/bin/x64 -lR
installing to F:/biocbuild/bbs-3.16-bioc/R/library/00LOCK-FEAST/00new/FEAST/libs/x64
** R
** data
*** moving datasets to lazyload DB
** inst
** byte-compile and prepare package for lazy loading
** help
*** installing help indices
** building package indices
** installing vignettes
** testing if installed package can be loaded from temporary location
** testing if installed package can be loaded from final location
** testing if installed package keeps a record of temporary installation path
* DONE (FEAST)

Tests output


Example timings

FEAST.Rcheck/FEAST-Ex.timings

nameusersystemelapsed
Consensus0.990.000.99
FEAST0.960.051.01
FEAST_fast1.580.091.67
Norm_Y0.200.030.24
Select_Model_short_SC30.380.000.37
Select_Model_short_TSCAN0.420.020.44
TSCAN_Clust0.000.010.01
Visual_Rslt0.640.050.69
Y0.090.000.09
align_CellType000
cal_F21.060.271.32
cal_MSE0.330.010.35
eval_Cluster0.020.000.01
process_Y0.140.020.16
setUp_BPPARAM0.010.000.02
trueclass000