Back to Multiple platform build/check report for BioC 3.19:   simplified   long
ABCDE[F]GHIJKLMNOPQRSTUVWXYZ

This page was generated on 2024-07-12 17:42 -0400 (Fri, 12 Jul 2024).

HostnameOSArch (*)R versionInstalled pkgs
nebbiolo1Linux (Ubuntu 22.04.3 LTS)x86_644.4.1 (2024-06-14) -- "Race for Your Life" 4741
palomino7Windows Server 2022 Datacenterx644.4.1 (2024-06-14 ucrt) -- "Race for Your Life" 4483
merida1macOS 12.7.4 Montereyx86_644.4.1 (2024-06-14) -- "Race for Your Life" 4512
kjohnson1macOS 13.6.6 Venturaarm644.4.1 (2024-06-14) -- "Race for Your Life" 4461
Click on any hostname to see more info about the system (e.g. compilers)      (*) as reported by 'uname -p', except on Windows and Mac OS X

Package 712/2300HostnameOS / ArchINSTALLBUILDCHECKBUILD BIN
FEAST 1.12.0  (landing page)
Kenong Su
Snapshot Date: 2024-07-10 14:00 -0400 (Wed, 10 Jul 2024)
git_url: https://git.bioconductor.org/packages/FEAST
git_branch: RELEASE_3_19
git_last_commit: adbdda9
git_last_commit_date: 2024-04-30 11:33:40 -0400 (Tue, 30 Apr 2024)
nebbiolo1Linux (Ubuntu 22.04.3 LTS) / x86_64  OK    OK    OK  UNNEEDED, same version is already published
palomino7Windows Server 2022 Datacenter / x64  OK    OK    OK    OK  
merida1macOS 12.7.4 Monterey / x86_64  OK    OK    OK    OK  UNNEEDED, same version is already published
kjohnson1macOS 13.6.6 Ventura / arm64  OK    OK    OK    OK  UNNEEDED, same version is already published


BUILD BIN results for FEAST on kjohnson1

To the developers/maintainers of the FEAST package:
- Allow up to 24 hours (and sometimes 48 hours) for your latest push to git@git.bioconductor.org:packages/FEAST.git to reflect on this report. See Troubleshooting Build Report for more information.
- Use the following Renviron settings to reproduce errors and warnings.
- If 'R CMD check' started to fail recently on the Linux builder(s) over a missing dependency, add the missing dependency to 'Suggests:' in your DESCRIPTION file. See Renviron.bioc for more information.

raw results


Summary

Package: FEAST
Version: 1.12.0
Command: rm -rf FEAST.buildbin-libdir && mkdir FEAST.buildbin-libdir && /Users/biocbuild/BBS/utils/build-universal.sh FEAST_1.12.0.tar.gz /Library/Frameworks/R.framework/Resources/bin/R FEAST.buildbin-libdir
StartedAt: 2024-07-12 14:32:08 -0400 (Fri, 12 Jul 2024)
EndedAt: 2024-07-12 14:32:48 -0400 (Fri, 12 Jul 2024)
EllapsedTime: 39.5 seconds
RetCode: 0
Status:   OK  
PackageFile: FEAST_1.12.0.tgz
PackageFileSize: 4.565 MiB

Command output

##############################################################################
##############################################################################
###
### Running command:
###
###   rm -rf FEAST.buildbin-libdir && mkdir FEAST.buildbin-libdir && /Users/biocbuild/BBS/utils/build-universal.sh FEAST_1.12.0.tar.gz /Library/Frameworks/R.framework/Resources/bin/R FEAST.buildbin-libdir
###
##############################################################################
##############################################################################


>>>>>>> 
>>>>>>> INSTALLATION WITH 'R CMD INSTALL --preclean --no-multiarch --library=FEAST.buildbin-libdir FEAST_1.12.0.tar.gz'
>>>>>>> 

* installing *source* package ‘FEAST’ ...
** using staged installation
** libs
using C compiler: ‘Apple clang version 15.0.0 (clang-1500.0.40.1)’
using SDK: ‘MacOSX11.3.sdk’
clang -arch arm64 -I"/Library/Frameworks/R.framework/Resources/include" -DNDEBUG   -I/opt/R/arm64/include    -fPIC  -falign-functions=64 -Wall -g -O2  -c cal_3_metrics.c -o cal_3_metrics.o
cal_3_metrics.c:42:22: warning: variable 'ni_2' set but not used [-Wunused-but-set-variable]
    double *nc, *nr, ni_2, n_j2, nt, nij_2;
                     ^
cal_3_metrics.c:42:28: warning: variable 'n_j2' set but not used [-Wunused-but-set-variable]
    double *nc, *nr, ni_2, n_j2, nt, nij_2;
                           ^
cal_3_metrics.c:42:34: warning: variable 'nt' set but not used [-Wunused-but-set-variable]
    double *nc, *nr, ni_2, n_j2, nt, nij_2;
                                 ^
cal_3_metrics.c:42:38: warning: variable 'nij_2' set but not used [-Wunused-but-set-variable]
    double *nc, *nr, ni_2, n_j2, nt, nij_2;
                                     ^
4 warnings generated.
clang -arch arm64 -dynamiclib -Wl,-headerpad_max_install_names -undefined dynamic_lookup -L/Library/Frameworks/R.framework/Resources/lib -L/opt/R/arm64/lib -o FEAST.so cal_3_metrics.o -F/Library/Frameworks/R.framework/.. -framework R -Wl,-framework -Wl,CoreFoundation
installing to /Users/biocbuild/bbs-3.19-bioc/meat/FEAST.buildbin-libdir/00LOCK-FEAST/00new/FEAST/libs
** R
** data
*** moving datasets to lazyload DB
** inst
** byte-compile and prepare package for lazy loading
** help
*** installing help indices
** building package indices
** installing vignettes
** testing if installed package can be loaded from temporary location
** checking absolute paths in shared objects and dynamic libraries
** testing if installed package can be loaded from final location
** testing if installed package keeps a record of temporary installation path
* DONE (FEAST)


>>>>>>> 
>>>>>>> FIXING PATHS TO DYNAMIC LIBRARIES FOR FEAST.buildbin-libdir/FEAST/libs/FEAST.so
>>>>>>> 

>>>>>>> Paths before fix:
FEAST.buildbin-libdir/FEAST/libs/FEAST.so:
	FEAST.so (compatibility version 0.0.0, current version 0.0.0)
	/Library/Frameworks/R.framework/Versions/4.4-arm64/Resources/lib/libR.dylib (compatibility version 4.4.0, current version 4.4.1)
	/System/Library/Frameworks/CoreFoundation.framework/Versions/A/CoreFoundation (compatibility version 150.0.0, current version 1775.118.101)
	/usr/lib/libSystem.B.dylib (compatibility version 1.0.0, current version 1292.100.5)

>>>>>>> Fix with install_name_tool:
install_name_tool -change "/usr/local/lib/libgcc_s.1.1.dylib" "/Library/Frameworks/R.framework/Versions/4.4-arm64/Resources/lib/libgcc_s.1.1.dylib" "FEAST.buildbin-libdir/FEAST/libs/FEAST.so"
install_name_tool -change "/usr/local/lib/libgfortran.5.dylib" "/Library/Frameworks/R.framework/Versions/4.4-arm64/Resources/lib/libgfortran.5.dylib" "FEAST.buildbin-libdir/FEAST/libs/FEAST.so"
install_name_tool -change "/usr/local/lib/libquadmath.0.dylib" "/Library/Frameworks/R.framework/Versions/4.4-arm64/Resources/lib/libquadmath.0.dylib" "FEAST.buildbin-libdir/FEAST/libs/FEAST.so"

>>>>>>> Paths after fix:
FEAST.buildbin-libdir/FEAST/libs/FEAST.so:
	FEAST.so (compatibility version 0.0.0, current version 0.0.0)
	/Library/Frameworks/R.framework/Versions/4.4-arm64/Resources/lib/libR.dylib (compatibility version 4.4.0, current version 4.4.1)
	/System/Library/Frameworks/CoreFoundation.framework/Versions/A/CoreFoundation (compatibility version 150.0.0, current version 1775.118.101)
	/usr/lib/libSystem.B.dylib (compatibility version 1.0.0, current version 1292.100.5)