Name | Last modified | Size | Description | |
---|---|---|---|---|
Parent Directory | - | |||
buildbin-summary.dcf | 05-Mar-2024 01:39 | 584 | ||
buildbin-out.txt | 05-Mar-2024 01:39 | 2.3K | ||
checksrc-summary.dcf | 05-Mar-2024 01:39 | 480 | ||
checksrc-out.txt | 05-Mar-2024 01:39 | 3.5K | ||
buildsrc-summary.dcf | 05-Mar-2024 01:39 | 455 | ||
buildsrc-out.txt | 05-Mar-2024 01:39 | 892 | ||
install-summary.dcf | 05-Mar-2024 01:39 | 287 | ||
install-out.txt | 05-Mar-2024 01:39 | 2.0K | ||