Back to Multiple platform build/check report for BioC 3.14
ABCD[E]FGHIJKLMNOPQRSTUVWXYZ

This page was generated on 2021-12-01 17:17:48 -0500 (Wed, 01 Dec 2021).

BUILD BIN results for ExperimentHub on tokay2

To the developers/maintainers of the ExperimentHub package:
- Please allow up to 24 hours (and sometimes 48 hours) for your latest push to git@git.bioconductor.org:packages/ExperimentHub.git to
reflect on this report. See How and When does the builder pull? When will my changes propagate? here for more information.
- Make sure to use the following settings in order to reproduce any error or warning you see on this page.

raw results

Package 615/2083HostnameOS / ArchINSTALLBUILDCHECKBUILD BIN
ExperimentHub 2.2.0  (landing page)
Bioconductor Package Maintainer
Snapshot Date: 2021-11-30 04:15:05 -0500 (Tue, 30 Nov 2021)
git_url: https://git.bioconductor.org/packages/ExperimentHub
git_branch: RELEASE_3_14
git_last_commit: b6b9dbb
git_last_commit_date: 2021-10-26 12:25:51 -0500 (Tue, 26 Oct 2021)
nebbiolo2Linux (Ubuntu 20.04.3 LTS) / x86_64  OK    OK    OK  UNNEEDED, same version is already published
tokay2Windows Server 2012 R2 Standard / x64  OK    OK    OK    OK  UNNEEDED, same version is already published
machv2macOS 10.14.6 Mojave / x86_64  OK    OK    OK    OK  UNNEEDED, same version is already published

Summary

Package: ExperimentHub
Version: 2.2.0
Command: rm -rf ExperimentHub.buildbin-libdir && mkdir ExperimentHub.buildbin-libdir && C:\Users\biocbuild\bbs-3.14-bioc\R\bin\R.exe CMD INSTALL --merge-multiarch --build --library=ExperimentHub.buildbin-libdir ExperimentHub_2.2.0.tar.gz
StartedAt: 2021-12-01 09:48:56 -0500 (Wed, 01 Dec 2021)
EndedAt: 2021-12-01 09:50:33 -0500 (Wed, 01 Dec 2021)
EllapsedTime: 97.3 seconds
RetCode: 0
Status:   OK  
PackageFile: ExperimentHub_2.2.0.zip
PackageFileSize: 306.7 KiB

Command output

##############################################################################
##############################################################################
###
### Running command:
###
###   rm -rf ExperimentHub.buildbin-libdir && mkdir ExperimentHub.buildbin-libdir && C:\Users\biocbuild\bbs-3.14-bioc\R\bin\R.exe CMD INSTALL --merge-multiarch --build --library=ExperimentHub.buildbin-libdir ExperimentHub_2.2.0.tar.gz
###
##############################################################################
##############################################################################



install for i386

* installing *source* package 'ExperimentHub' ...
** using staged installation
** R
** inst
** byte-compile and prepare package for lazy loading
** help
*** installing help indices
  converting help for package 'ExperimentHub'
    finding HTML links ... done
    ExperimentHub-class                     html  
    getExperimentHubOption                  html  
    listResources                           html  
** building package indices
** installing vignettes
** testing if installed package can be loaded from temporary location
** testing if installed package can be loaded from final location
** testing if installed package keeps a record of temporary installation path

install for x64

* installing *source* package 'ExperimentHub' ...
** testing if installed package can be loaded
* MD5 sums
packaged installation of 'ExperimentHub' as ExperimentHub_2.2.0.zip
* DONE (ExperimentHub)