Name | Last modified | Size | Description | |
---|---|---|---|---|
Parent Directory | - | |||
buildsrc-out.txt | 03-May-2024 00:41 | 1.3K | ||
buildsrc-summary.dcf | 03-May-2024 00:41 | 444 | ||
checksrc-out.txt | 03-May-2024 00:41 | 5.6K | ||
checksrc-summary.dcf | 03-May-2024 00:41 | 471 | ||
install-out.txt | 03-May-2024 00:41 | 2.2K | ||
install-summary.dcf | 03-May-2024 00:41 | 280 | ||