Name | Last modified | Size | Description | |
---|---|---|---|---|
Parent Directory | - | |||
checksrc-out.txt | 06-Jul-2024 06:39 | 8.8K | ||
buildsrc-out.txt | 27-Jul-2024 06:39 | 1.7K | ||
buildbin-out.txt | 06-Jul-2024 06:39 | 1.4K | ||
install-out.txt | 27-Jul-2024 06:39 | 1.3K | ||
buildbin-summary.dcf | 06-Jul-2024 06:39 | 530 | ||
checksrc-summary.dcf | 06-Jul-2024 06:39 | 458 | ||
buildsrc-summary.dcf | 27-Jul-2024 06:39 | 376 | ||
install-summary.dcf | 27-Jul-2024 06:39 | 273 | ||