Name | Last modified | Size | Description | |
---|---|---|---|---|
Parent Directory | - | |||
install-summary.dcf | 17-Jul-2024 06:39 | 284 | ||
checksrc-summary.dcf | 17-Jul-2024 06:39 | 479 | ||
buildsrc-summary.dcf | 17-Jul-2024 06:39 | 485 | ||
buildbin-summary.dcf | 17-Jul-2024 06:39 | 563 | ||
buildsrc-out.txt | 17-Jul-2024 06:39 | 963 | ||
install-out.txt | 17-Jul-2024 06:39 | 1.9K | ||
buildbin-out.txt | 17-Jul-2024 06:39 | 2.1K | ||
checksrc-out.txt | 17-Jul-2024 06:39 | 4.2K | ||