Name | Last modified | Size | Description | |
---|---|---|---|---|
Parent Directory | - | |||
install-summary.dcf | 10-May-2024 00:40 | 286 | ||
install-out.txt | 10-May-2024 00:40 | 1.9K | ||
checksrc-summary.dcf | 10-May-2024 00:40 | 483 | ||
checksrc-out.txt | 10-May-2024 00:40 | 3.7K | ||
buildsrc-summary.dcf | 10-May-2024 00:40 | 453 | ||
buildsrc-out.txt | 10-May-2024 00:40 | 934 | ||