Name | Last modified | Size | Description | |
---|---|---|---|---|
Parent Directory | - | |||
install-out.txt | 17-Jul-2024 06:38 | 954 | ||
install-summary.dcf | 17-Jul-2024 06:38 | 255 | ||
buildsrc-out.txt | 17-Jul-2024 06:38 | 861 | ||
buildsrc-summary.dcf | 17-Jul-2024 06:38 | 411 | ||
checksrc-out.txt | 17-Jul-2024 06:38 | 3.7K | ||
checksrc-summary.dcf | 17-Jul-2024 06:38 | 406 | ||