Back to Multiple platform build/check report for BioC 3.14
ABCD[E]FGHIJKLMNOPQRSTUVWXYZ

This page was generated on 2021-12-01 17:17:48 -0500 (Wed, 01 Dec 2021).

INSTALL results for EWCE on tokay2

To the developers/maintainers of the EWCE package:
- Please allow up to 24 hours (and sometimes 48 hours) for your latest push to git@git.bioconductor.org:packages/EWCE.git to
reflect on this report. See How and When does the builder pull? When will my changes propagate? here for more information.
- Make sure to use the following settings in order to reproduce any error or warning you see on this page.

raw results

Package 610/2083HostnameOS / ArchINSTALLBUILDCHECKBUILD BIN
EWCE 1.2.0  (landing page)
Alan Murphy
Snapshot Date: 2021-11-30 04:15:05 -0500 (Tue, 30 Nov 2021)
git_url: https://git.bioconductor.org/packages/EWCE
git_branch: RELEASE_3_14
git_last_commit: 1ec3e6d
git_last_commit_date: 2021-10-26 13:08:44 -0500 (Tue, 26 Oct 2021)
nebbiolo2Linux (Ubuntu 20.04.3 LTS) / x86_64  OK    OK    OK  UNNEEDED, same version is already published
tokay2Windows Server 2012 R2 Standard / x64  OK    OK    OK    OK  UNNEEDED, same version is already published
machv2macOS 10.14.6 Mojave / x86_64  OK    OK    OK    OK  UNNEEDED, same version is already published

Summary

Package: EWCE
Version: 1.2.0
Command: C:\cygwin\bin\curl.exe -O http://155.52.207.166/BBS/3.14/bioc/src/contrib/EWCE_1.2.0.tar.gz && rm -rf EWCE.buildbin-libdir && mkdir EWCE.buildbin-libdir && C:\Users\biocbuild\bbs-3.14-bioc\R\bin\R.exe CMD INSTALL --merge-multiarch --build --library=EWCE.buildbin-libdir EWCE_1.2.0.tar.gz && C:\Users\biocbuild\bbs-3.14-bioc\R\bin\R.exe CMD INSTALL EWCE_1.2.0.zip && rm EWCE_1.2.0.tar.gz EWCE_1.2.0.zip
StartedAt: 2021-11-30 08:04:13 -0500 (Tue, 30 Nov 2021)
EndedAt: 2021-11-30 08:05:43 -0500 (Tue, 30 Nov 2021)
EllapsedTime: 89.7 seconds
RetCode: 0
Status:   OK  

Command output

##############################################################################
##############################################################################
###
### Running command:
###
###   C:\cygwin\bin\curl.exe -O http://155.52.207.166/BBS/3.14/bioc/src/contrib/EWCE_1.2.0.tar.gz && rm -rf EWCE.buildbin-libdir && mkdir EWCE.buildbin-libdir && C:\Users\biocbuild\bbs-3.14-bioc\R\bin\R.exe CMD INSTALL --merge-multiarch --build --library=EWCE.buildbin-libdir EWCE_1.2.0.tar.gz && C:\Users\biocbuild\bbs-3.14-bioc\R\bin\R.exe CMD INSTALL EWCE_1.2.0.zip && rm EWCE_1.2.0.tar.gz EWCE_1.2.0.zip
###
##############################################################################
##############################################################################


  % Total    % Received % Xferd  Average Speed   Time    Time     Time  Current
                                 Dload  Upload   Total   Spent    Left  Speed

  0     0    0     0    0     0      0      0 --:--:-- --:--:-- --:--:--     0
100 66352  100 66352    0     0   345k      0 --:--:-- --:--:-- --:--:--  346k

install for i386

* installing *source* package 'EWCE' ...
** using staged installation
** R
** inst
** byte-compile and prepare package for lazy loading
** help
*** installing help indices
  converting help for package 'EWCE'
    finding HTML links ... done
    add_res_to_merging_list                 html  
    bin_columns_into_quantiles              html  
    bin_specificity_into_quantiles          html  
    bootstrap_enrichment_test               html  
    check_ewce_genelist_inputs              html  
    controlled_geneset_enrichment           html  
    convert_new_ewce_to_old                 html  
    convert_old_ewce_to_new                 html  
    drop_uninformative_genes                html  
    ewce_expression_data                    html  
    ewce_plot                               html  
    filter_genes_without_1to1_homolog       html  
    fix_bad_hgnc_symbols                    html  
    fix_bad_mgi_symbols                     html  
    generate_bootstrap_plots                html  
    generate_bootstrap_plots_for_transcriptome
                                            html  
    generate_celltype_data                  html  
    generate_controlled_bootstrap_geneset   html  
    get_celltype_table                      html  
    get_summed_proportions                  html  
    merge_two_expfiles                      html  
    merged_ewce                             html  
    prep_dendro                             html  
    prepare_genesize_control_network        html  
** building package indices
** installing vignettes
** testing if installed package can be loaded from temporary location
** testing if installed package can be loaded from final location
** testing if installed package keeps a record of temporary installation path

install for x64

* installing *source* package 'EWCE' ...
** testing if installed package can be loaded
* MD5 sums
packaged installation of 'EWCE' as EWCE_1.2.0.zip
* DONE (EWCE)
* installing to library 'C:/Users/biocbuild/bbs-3.14-bioc/R/library'
package 'EWCE' successfully unpacked and MD5 sums checked