Back to Multiple platform build/check report for BioC 3.14
ABCD[E]FGHIJKLMNOPQRSTUVWXYZ

This page was generated on 2021-12-03 13:05:14 -0500 (Fri, 03 Dec 2021).

CHECK results for EWCE on tokay2

To the developers/maintainers of the EWCE package:
- Please allow up to 24 hours (and sometimes 48 hours) for your latest push to git@git.bioconductor.org:packages/EWCE.git to
reflect on this report. See How and When does the builder pull? When will my changes propagate? here for more information.
- Make sure to use the following settings in order to reproduce any error or warning you see on this page.

raw results

Package 610/2083HostnameOS / ArchINSTALLBUILDCHECKBUILD BIN
EWCE 1.2.0  (landing page)
Alan Murphy
Snapshot Date: 2021-12-02 01:55:06 -0500 (Thu, 02 Dec 2021)
git_url: https://git.bioconductor.org/packages/EWCE
git_branch: RELEASE_3_14
git_last_commit: 1ec3e6d
git_last_commit_date: 2021-10-26 13:08:44 -0500 (Tue, 26 Oct 2021)
nebbiolo2Linux (Ubuntu 20.04.3 LTS) / x86_64  OK    OK    OK  UNNEEDED, same version is already published
tokay2Windows Server 2012 R2 Standard / x64  OK    OK    OK    OK  UNNEEDED, same version is already published
machv2macOS 10.14.6 Mojave / x86_64  OK    OK    OK    OK  UNNEEDED, same version is already published

Summary

Package: EWCE
Version: 1.2.0
Command: C:\Users\biocbuild\bbs-3.14-bioc\R\bin\R.exe CMD check --force-multiarch --install=check:EWCE.install-out.txt --library=C:\Users\biocbuild\bbs-3.14-bioc\R\library --no-vignettes --timings EWCE_1.2.0.tar.gz
StartedAt: 2021-12-02 20:09:45 -0500 (Thu, 02 Dec 2021)
EndedAt: 2021-12-02 20:34:40 -0500 (Thu, 02 Dec 2021)
EllapsedTime: 1494.9 seconds
RetCode: 0
Status:   OK  
CheckDir: EWCE.Rcheck
Warnings: 0

Command output

##############################################################################
##############################################################################
###
### Running command:
###
###   C:\Users\biocbuild\bbs-3.14-bioc\R\bin\R.exe CMD check --force-multiarch --install=check:EWCE.install-out.txt --library=C:\Users\biocbuild\bbs-3.14-bioc\R\library --no-vignettes --timings EWCE_1.2.0.tar.gz
###
##############################################################################
##############################################################################


* using log directory 'C:/Users/biocbuild/bbs-3.14-bioc/meat/EWCE.Rcheck'
* using R version 4.1.2 (2021-11-01)
* using platform: x86_64-w64-mingw32 (64-bit)
* using session charset: ISO8859-1
* using option '--no-vignettes'
* checking for file 'EWCE/DESCRIPTION' ... OK
* checking extension type ... Package
* this is package 'EWCE' version '1.2.0'
* package encoding: UTF-8
* checking package namespace information ... OK
* checking package dependencies ... OK
* checking if this is a source package ... OK
* checking if there is a namespace ... OK
* checking for hidden files and directories ... OK
* checking for portable file names ... OK
* checking whether package 'EWCE' can be installed ... OK
* checking installed package size ... OK
* checking package directory ... OK
* checking 'build' directory ... OK
* checking DESCRIPTION meta-information ... OK
* checking top-level files ... OK
* checking for left-over files ... OK
* checking index information ... OK
* checking package subdirectories ... OK
* checking R files for non-ASCII characters ... OK
* checking R files for syntax errors ... OK
* loading checks for arch 'i386'
** checking whether the package can be loaded ... OK
** checking whether the package can be loaded with stated dependencies ... OK
** checking whether the package can be unloaded cleanly ... OK
** checking whether the namespace can be loaded with stated dependencies ... OK
** checking whether the namespace can be unloaded cleanly ... OK
* loading checks for arch 'x64'
** checking whether the package can be loaded ... OK
** checking whether the package can be loaded with stated dependencies ... OK
** checking whether the package can be unloaded cleanly ... OK
** checking whether the namespace can be loaded with stated dependencies ... OK
** checking whether the namespace can be unloaded cleanly ... OK
* checking dependencies in R code ... OK
* checking S3 generic/method consistency ... OK
* checking replacement functions ... OK
* checking foreign function calls ... OK
* checking R code for possible problems ... OK
* checking Rd files ... OK
* checking Rd metadata ... OK
* checking Rd cross-references ... OK
* checking for missing documentation entries ... OK
* checking for code/documentation mismatches ... OK
* checking Rd \usage sections ... OK
* checking Rd contents ... OK
* checking for unstated dependencies in examples ... OK
* checking files in 'vignettes' ... OK
* checking examples ...
** running examples for arch 'i386' ... OK
Examples with CPU (user + system) or elapsed time > 5s
                                   user system elapsed
generate_bootstrap_plots          26.17   2.07   30.11
ewce_expression_data              22.53   0.73   24.69
controlled_geneset_enrichment     19.09   0.58   20.95
bootstrap_enrichment_test         18.19   0.62   20.11
check_ewce_genelist_inputs        17.42   0.72   19.31
add_res_to_merging_list           15.63   2.11   19.40
ewce_plot                         16.81   0.71   18.64
fix_bad_mgi_symbols               11.21   0.44   12.19
filter_genes_without_1to1_homolog  8.09   0.40    9.00
bin_columns_into_quantiles         7.09   0.18    7.44
bin_specificity_into_quantiles     6.59   0.35    7.25
prep_dendro                        6.22   0.12    6.54
drop_uninformative_genes           5.71   0.25    6.25
get_celltype_table                 5.59   0.22    6.00
generate_celltype_data             5.44   0.27    5.85
** running examples for arch 'x64' ... OK
Examples with CPU (user + system) or elapsed time > 5s
                                   user system elapsed
generate_bootstrap_plots          25.75   1.04   28.42
ewce_expression_data              24.32   0.89   26.81
controlled_geneset_enrichment     18.39   1.06   20.53
bootstrap_enrichment_test         18.75   0.69   20.63
ewce_plot                         17.51   0.68   19.22
check_ewce_genelist_inputs        17.38   0.58   19.70
add_res_to_merging_list           13.03   1.38   15.72
fix_bad_mgi_symbols               10.79   0.47   11.86
filter_genes_without_1to1_homolog  7.91   0.39    8.63
bin_columns_into_quantiles         6.98   0.15    7.51
bin_specificity_into_quantiles     6.53   0.25    7.19
generate_celltype_data             5.54   0.41    6.11
prep_dendro                        5.68   0.18    6.08
drop_uninformative_genes           5.20   0.20    5.72
get_celltype_table                 4.92   0.41    5.50
* checking for unstated dependencies in 'tests' ... OK
* checking tests ...
** running tests for arch 'i386' ...
  Running 'testthat.R'
 OK
** running tests for arch 'x64' ...
  Running 'testthat.R'
 OK
* checking for unstated dependencies in vignettes ... OK
* checking package vignettes in 'inst/doc' ... OK
* checking running R code from vignettes ... SKIPPED
* checking re-building of vignette outputs ... SKIPPED
* checking PDF version of manual ... OK
* DONE

Status: OK


Installation output

EWCE.Rcheck/00install.out

##############################################################################
##############################################################################
###
### Running command:
###
###   C:\cygwin\bin\curl.exe -O http://155.52.207.166/BBS/3.14/bioc/src/contrib/EWCE_1.2.0.tar.gz && rm -rf EWCE.buildbin-libdir && mkdir EWCE.buildbin-libdir && C:\Users\biocbuild\bbs-3.14-bioc\R\bin\R.exe CMD INSTALL --merge-multiarch --build --library=EWCE.buildbin-libdir EWCE_1.2.0.tar.gz && C:\Users\biocbuild\bbs-3.14-bioc\R\bin\R.exe CMD INSTALL EWCE_1.2.0.zip && rm EWCE_1.2.0.tar.gz EWCE_1.2.0.zip
###
##############################################################################
##############################################################################


  % Total    % Received % Xferd  Average Speed   Time    Time     Time  Current
                                 Dload  Upload   Total   Spent    Left  Speed

  0     0    0     0    0     0      0      0 --:--:-- --:--:-- --:--:--     0
100 66352  100 66352    0     0   425k      0 --:--:-- --:--:-- --:--:--  429k

install for i386

* installing *source* package 'EWCE' ...
** using staged installation
** R
** inst
** byte-compile and prepare package for lazy loading
** help
*** installing help indices
  converting help for package 'EWCE'
    finding HTML links ... done
    add_res_to_merging_list                 html  
    bin_columns_into_quantiles              html  
    bin_specificity_into_quantiles          html  
    bootstrap_enrichment_test               html  
    check_ewce_genelist_inputs              html  
    controlled_geneset_enrichment           html  
    convert_new_ewce_to_old                 html  
    convert_old_ewce_to_new                 html  
    drop_uninformative_genes                html  
    ewce_expression_data                    html  
    ewce_plot                               html  
    filter_genes_without_1to1_homolog       html  
    fix_bad_hgnc_symbols                    html  
    fix_bad_mgi_symbols                     html  
    generate_bootstrap_plots                html  
    generate_bootstrap_plots_for_transcriptome
                                            html  
    generate_celltype_data                  html  
    generate_controlled_bootstrap_geneset   html  
    get_celltype_table                      html  
    get_summed_proportions                  html  
    merge_two_expfiles                      html  
    merged_ewce                             html  
    prep_dendro                             html  
    prepare_genesize_control_network        html  
** building package indices
** installing vignettes
** testing if installed package can be loaded from temporary location
** testing if installed package can be loaded from final location
** testing if installed package keeps a record of temporary installation path

install for x64

* installing *source* package 'EWCE' ...
** testing if installed package can be loaded
* MD5 sums
packaged installation of 'EWCE' as EWCE_1.2.0.zip
* DONE (EWCE)
* installing to library 'C:/Users/biocbuild/bbs-3.14-bioc/R/library'
package 'EWCE' successfully unpacked and MD5 sums checked

Tests output

EWCE.Rcheck/tests_i386/testthat.Rout


R version 4.1.2 (2021-11-01) -- "Bird Hippie"
Copyright (C) 2021 The R Foundation for Statistical Computing
Platform: i386-w64-mingw32/i386 (32-bit)

R is free software and comes with ABSOLUTELY NO WARRANTY.
You are welcome to redistribute it under certain conditions.
Type 'license()' or 'licence()' for distribution details.

R is a collaborative project with many contributors.
Type 'contributors()' for more information and
'citation()' on how to cite R or R packages in publications.

Type 'demo()' for some demos, 'help()' for on-line help, or
'help.start()' for an HTML browser interface to help.
Type 'q()' to quit R.

> library(testthat)
> library(EWCE)
Loading required package: RNOmni
> 
> test_check("EWCE")
snapshotDate(): 2021-10-19
see ?ewceData and browseVignettes('ewceData') for documentation
loading from cache
see ?ewceData and browseVignettes('ewceData') for documentation
loading from cache
see ?ewceData and browseVignettes('ewceData') for documentation
loading from cache
see ?ewceData and browseVignettes('ewceData') for documentation
loading from cache
see ?ewceData and browseVignettes('ewceData') for documentation
loading from cache
see ?ewceData and browseVignettes('ewceData') for documentation
loading from cache
Apoe, Inpp5d, Cd2ap, Nme8, Cass4, Mef2c, Zcwpw1, Bin1, Clu, Celf1, Abca7, Slc24a4, Ptk2b, Picalm, Fermt2, Sorl1
astrocytes_ependymal
0.1

endothelial-mural
0.7

interneurons
1

microglia
0
Fold enrichment: 1.48064767621354
Standard deviations from mean: 3.13462817750597

oligodendrocytes
0.6

pyramidal CA1
0.3

pyramidal SS
0.4

see ?ewceData and browseVignettes('ewceData') for documentation
loading from cache
see ?ewceData and browseVignettes('ewceData') for documentation
loading from cache
see ?ewceData and browseVignettes('ewceData') for documentation
loading from cache
see ?ewceData and browseVignettes('ewceData') for documentation
loading from cache
see ?ewceData and browseVignettes('ewceData') for documentation
loading from cache
see ?ewceData and browseVignettes('ewceData') for documentation
loading from cache
see ?ewceData and browseVignettes('ewceData') for documentation
loading from cache
Tbc1d2b, Cxcr4, Nrip2, Sox12, Selplg
astrocytes_ependymal
1

endothelial-mural
0
Fold enrichment: 1.60961976289823
Standard deviations from mean: 2.17852955614251

interneurons
0.8

microglia
0
Fold enrichment: 2.52561636602415
Standard deviations from mean: 3.28089741006316

oligodendrocytes
1

pyramidal CA1
0.9

pyramidal SS
0.9

see ?ewceData and browseVignettes('ewceData') for documentation
loading from cache
see ?ewceData and browseVignettes('ewceData') for documentation
loading from cache
see ?ewceData and browseVignettes('ewceData') for documentation
loading from cache
Cirbp, Camk1g, Nat10, Sema3a, Sssca1
astrocytes_ependymal
0.9

endothelial-mural
0.8

interneurons
0
Fold enrichment: 1.46726057430471
Standard deviations from mean: 1.79628195179353

microglia
0.8

oligodendrocytes
1

pyramidal CA1
0.1

pyramidal SS
0
Fold enrichment: 1.74532935167623
Standard deviations from mean: 3.18816102564295

see ?ewceData and browseVignettes('ewceData') for documentation
loading from cache
see ?ewceData and browseVignettes('ewceData') for documentation
loading from cache
see ?ewceData and browseVignettes('ewceData') for documentation
loading from cache
see ?ewceData and browseVignettes('ewceData') for documentation
loading from cache
see ?ewceData and browseVignettes('ewceData') for documentation
loading from cache
see ?ewceData and browseVignettes('ewceData') for documentation
loading from cache
see ?ewceData and browseVignettes('ewceData') for documentation
loading from cache
see ?ewceData and browseVignettes('ewceData') for documentation
loading from cache
see ?ewceData and browseVignettes('ewceData') for documentation
loading from cache
see ?ewceData and browseVignettes('ewceData') for documentation
loading from cache
see ?ewceData and browseVignettes('ewceData') for documentation
loading from cache
CONTROLLED BOOTSTRAPPING NETWORK GENERATED
Abca7, Apoe, Bin1, Cass4, Cd2ap, Celf1, Clu, Fermt2, Inpp5d, Mef2c, Nme8, Picalm, Ptk2b, Slc24a4, Sorl1, Zcwpw1
astrocytes_ependymal
0.07

endothelial-mural
0.74

interneurons
1

microglia
0.02
Fold enrichment: 1.66844158222748
Standard deviations from mean: 2.27154805377459

oligodendrocytes
0.71

pyramidal CA1
0.58

pyramidal SS
0.63

see ?ewceData and browseVignettes('ewceData') for documentation
loading from cache
see ?ewceData and browseVignettes('ewceData') for documentation
loading from cache
see ?ewceData and browseVignettes('ewceData') for documentation
loading from cache
see ?ewceData and browseVignettes('ewceData') for documentation
loading from cache
see ?ewceData and browseVignettes('ewceData') for documentation
loading from cache
see ?ewceData and browseVignettes('ewceData') for documentation
loading from cache
see ?ewceData and browseVignettes('ewceData') for documentation
loading from cache
see ?ewceData and browseVignettes('ewceData') for documentation
loading from cache
see ?ewceData and browseVignettes('ewceData') for documentation
loading from cache
see ?ewceData and browseVignettes('ewceData') for documentation
loading from cache
see ?ewceData and browseVignettes('ewceData') for documentation
loading from cache
see ?ewceData and browseVignettes('ewceData') for documentation
loading from cache
see ?ewceData and browseVignettes('ewceData') for documentation
loading from cache
see ?ewceData and browseVignettes('ewceData') for documentation
loading from cache
see ?ewceData and browseVignettes('ewceData') for documentation
loading from cache
see ?ewceData and browseVignettes('ewceData') for documentation
loading from cache
see ?ewceData and browseVignettes('ewceData') for documentation
loading from cache
see ?ewceData and browseVignettes('ewceData') for documentation
loading from cache
Prpf38b, Ppp2r5c, Dnajc1, Cbx5, Tbc1d2b, Col6a1, Ncan, Myh14, Cxcr4, Gpr161, Col5a3, Repin1, Ddc, Sall3, Zc3h14, Efcab2, Frzb, Adam33, Tmcc2, Nrip2, Sox12, Wwc1, Itga7, Selplg, Itgb5, Polr3g
astrocytes_ependymal
0.2

endothelial-mural
0
Fold enrichment: 1.35433709426435
Standard deviations from mean: 5.29340612207046

interneurons
1

microglia
0.2

oligodendrocytes
0.8

pyramidal CA1
1

pyramidal SS
1

see ?ewceData and browseVignettes('ewceData') for documentation
loading from cache
see ?ewceData and browseVignettes('ewceData') for documentation
loading from cache
see ?ewceData and browseVignettes('ewceData') for documentation
loading from cache
Aifm1, Psmd11, Tubb5, Kif9, Ank, Col12a1, Rsrc1, Parp2, Phtf1, Cirbp, Camk1g, Zcchc17, Thumpd3, Nat10, Prkab1, Asap1, Sema3a, Nek3, Ndufa10, Rbm3, Kctd5, Eif5, Nol6, Prss23, Susd4, Sssca1
astrocytes_ependymal
1

endothelial-mural
0.8

interneurons
0.2

microglia
0.4

oligodendrocytes
0.4

pyramidal CA1
0.6

pyramidal SS
0
Fold enrichment: 1.2475597536342
Standard deviations from mean: 3.49792945157607

see ?ewceData and browseVignettes('ewceData') for documentation
loading from cache
see ?ewceData and browseVignettes('ewceData') for documentation
loading from cache
see ?ewceData and browseVignettes('ewceData') for documentation
loading from cache
see ?ewceData and browseVignettes('ewceData') for documentation
loading from cache
see ?ewceData and browseVignettes('ewceData') for documentation
loading from cache
Vgll4, Ddx17, Nhsl1, Zc3h10, Sema5a, Add3, Litaf, Strap, Irf5
astrocytes_ependymal
0.2

endothelial-mural
0.2

interneurons
0.9

microglia
0.2

oligodendrocytes
0.2

pyramidal CA1
0.8

pyramidal SS
0.8

see ?ewceData and browseVignettes('ewceData') for documentation
loading from cache
see ?ewceData and browseVignettes('ewceData') for documentation
loading from cache
see ?ewceData and browseVignettes('ewceData') for documentation
loading from cache
Pdpk1, Sh2b2, Fam184b, Ppig, Egr4, Prpf40a, Plxna2, Ttc17
astrocytes_ependymal
0.7

endothelial-mural
0.7

interneurons
0.6

microglia
0
Fold enrichment: 1.49804244406422
Standard deviations from mean: 1.75098074520754

oligodendrocytes
0.9

pyramidal CA1
0.2

pyramidal SS
0.2

see ?ewceData and browseVignettes('ewceData') for documentation
loading from cache
see ?ewceData and browseVignettes('ewceData') for documentation
loading from cache
see ?ewceData and browseVignettes('ewceData') for documentation
loading from cache
Wdr31, Prmt2, Arpp19, Gab1, Mid1ip1, Rnf220, Ddx49, Fam171a1, Thap11, Myo10, Mcm7
astrocytes_ependymal
0.5

endothelial-mural
0.6

interneurons
0.8

microglia
0.7

oligodendrocytes
0
Fold enrichment: 1.54867695548019
Standard deviations from mean: 1.91970528493072

pyramidal CA1
0.5

pyramidal SS
0.4

see ?ewceData and browseVignettes('ewceData') for documentation
loading from cache
see ?ewceData and browseVignettes('ewceData') for documentation
loading from cache
see ?ewceData and browseVignettes('ewceData') for documentation
loading from cache
Rab36, Mab21l2, Pno1, Nup214, Dnajc18, Lgals8, Ahsa2, Rpl27a, Pop1, Fbln1
astrocytes_ependymal
0.6

endothelial-mural
0.1

interneurons
0.8

microglia
0.8

oligodendrocytes
0.3

pyramidal CA1
0.4

pyramidal SS
0.4

see ?ewceData and browseVignettes('ewceData') for documentation
loading from cache
trying URL 'http://www.informatics.jax.org/downloads/reports/MRK_List2.rpt'
Content type ' Ü>ˆœvˆœvä„nØÜ>å¹vÐQ³' length 38629932 bytes (36.8 MB)
==================================================
downloaded 36.8 MB

see ?ewceData and browseVignettes('ewceData') for documentation
loading from cache
see ?ewceData and browseVignettes('ewceData') for documentation
loading from cache
Warning: Input 'exp' stored as characters. Converting to numeric. Check that it looks correct.
see ?ewceData and browseVignettes('ewceData') for documentation
loading from cache
1 rows do not have proper MGI symbols
Mar-01
see ?ewceData and browseVignettes('ewceData') for documentation
loading from cache
1 rows do not have proper MGI symbols
Mar-01
see ?ewceData and browseVignettes('ewceData') for documentation
loading from cache
10 of 10 are not proper HGNC symbols
Possible corruption of gene names by excel: Mar-01
see ?ewceData and browseVignettes('ewceData') for documentation
loading from cache
10 of 10 are not proper HGNC symbols
Possible corruption of gene names by excel: Mar-01
Maps last updated on: Thu Oct 24 12:31:05 2019
Maps last updated on: Thu Oct 24 12:31:05 2019
9 of 10 gene symbols corrected
1 of 10 gene symbols cannot be mapped
see ?ewceData and browseVignettes('ewceData') for documentation
loading from cache
1 rows do not have proper MGI symbols
Tm4sf12
see ?ewceData and browseVignettes('ewceData') for documentation
loading from cache
1 poorly annotated genes are replicates of existing genes. These are: 
Tspan12
1 rows should have been corrected by checking synonms
0 rows STILL do not have proper MGI symbols

see ?ewceData and browseVignettes('ewceData') for documentation
loading from cache
0 rows do not have proper MGI symbols

see ?ewceData and browseVignettes('ewceData') for documentation
loading from cache
669 rows do not have proper MGI symbols
2310042E22Rik, BC005764, C130030K03Rik, Stmn1-rs1, Gm9846, E130309F12Rik, Fam211b, AI848285, Acpl2, 9630033F20Rik, Adrbk2, Syne1_loc2, Adc, Dlx1os, LOC106740, Pdxp, Atp6v0c-ps2, 2900056M20Rik, Epb4.1l1, A330050F15Rik
see ?ewceData and browseVignettes('ewceData') for documentation
loading from cache
308 rows do not have proper MGI symbols
2310042E22Rik, BC005764, C130030K03Rik, Stmn1-rs1, Gm9846, E130309F12Rik, Fam211b, AI848285, Acpl2, 9630033F20Rik, Adrbk2, Syne1_loc2, Adc, Dlx1os, LOC106740, Pdxp, Atp6v0c-ps2, 2900056M20Rik, Epb4.1l1, A330050F15Rik
see ?ewceData and browseVignettes('ewceData') for documentation
loading from cache
1 poorly annotated genes are replicates of existing genes. These are: 
Hjurp
185 rows should have been corrected by checking synonms
126 rows STILL do not have proper MGI symbols
see ?ewceData and browseVignettes('ewceData') for documentation
loading from cache
308 rows do not have proper MGI symbols
2310042E22Rik, BC005764, C130030K03Rik, Stmn1-rs1, Gm9846, E130309F12Rik, Fam211b, AI848285, Acpl2, 9630033F20Rik, Adrbk2, Syne1_loc2, Adc, Dlx1os, LOC106740, Pdxp, Atp6v0c-ps2, 2900056M20Rik, Epb4.1l1, A330050F15Rik
see ?ewceData and browseVignettes('ewceData') for documentation
loading from cache
1 poorly annotated genes are replicates of existing genes. These are: 
Hjurp
185 rows should have been corrected by checking synonms
126 rows STILL do not have proper MGI symbols
see ?ewceData and browseVignettes('ewceData') for documentation
loading from cache
[ FAIL 0 | WARN 0 | SKIP 0 | PASS 15 ]
> 
> proc.time()
   user  system elapsed 
 325.81   22.51  390.92 

EWCE.Rcheck/tests_x64/testthat.Rout


R version 4.1.2 (2021-11-01) -- "Bird Hippie"
Copyright (C) 2021 The R Foundation for Statistical Computing
Platform: x86_64-w64-mingw32/x64 (64-bit)

R is free software and comes with ABSOLUTELY NO WARRANTY.
You are welcome to redistribute it under certain conditions.
Type 'license()' or 'licence()' for distribution details.

R is a collaborative project with many contributors.
Type 'contributors()' for more information and
'citation()' on how to cite R or R packages in publications.

Type 'demo()' for some demos, 'help()' for on-line help, or
'help.start()' for an HTML browser interface to help.
Type 'q()' to quit R.

> library(testthat)
> library(EWCE)
Loading required package: RNOmni
> 
> test_check("EWCE")
snapshotDate(): 2021-10-19
see ?ewceData and browseVignettes('ewceData') for documentation
loading from cache
see ?ewceData and browseVignettes('ewceData') for documentation
loading from cache
see ?ewceData and browseVignettes('ewceData') for documentation
loading from cache
see ?ewceData and browseVignettes('ewceData') for documentation
loading from cache
see ?ewceData and browseVignettes('ewceData') for documentation
loading from cache
see ?ewceData and browseVignettes('ewceData') for documentation
loading from cache
Apoe, Inpp5d, Cd2ap, Nme8, Cass4, Mef2c, Zcwpw1, Bin1, Clu, Celf1, Abca7, Slc24a4, Ptk2b, Picalm, Fermt2, Sorl1
astrocytes_ependymal
0.1

endothelial-mural
0.7

interneurons
1

microglia
0
Fold enrichment: 1.48064767621354
Standard deviations from mean: 3.13462817750597

oligodendrocytes
0.6

pyramidal CA1
0.3

pyramidal SS
0.4

see ?ewceData and browseVignettes('ewceData') for documentation
loading from cache
see ?ewceData and browseVignettes('ewceData') for documentation
loading from cache
see ?ewceData and browseVignettes('ewceData') for documentation
loading from cache
see ?ewceData and browseVignettes('ewceData') for documentation
loading from cache
see ?ewceData and browseVignettes('ewceData') for documentation
loading from cache
see ?ewceData and browseVignettes('ewceData') for documentation
loading from cache
see ?ewceData and browseVignettes('ewceData') for documentation
loading from cache
Tbc1d2b, Cxcr4, Nrip2, Sox12, Selplg
astrocytes_ependymal
1

endothelial-mural
0
Fold enrichment: 1.60961976289823
Standard deviations from mean: 2.17852955614251

interneurons
0.8

microglia
0
Fold enrichment: 2.52561636602415
Standard deviations from mean: 3.28089741006316

oligodendrocytes
1

pyramidal CA1
0.9

pyramidal SS
0.9

see ?ewceData and browseVignettes('ewceData') for documentation
loading from cache
see ?ewceData and browseVignettes('ewceData') for documentation
loading from cache
see ?ewceData and browseVignettes('ewceData') for documentation
loading from cache
Cirbp, Camk1g, Nat10, Sema3a, Sssca1
astrocytes_ependymal
0.9

endothelial-mural
0.8

interneurons
0
Fold enrichment: 1.46726057430471
Standard deviations from mean: 1.79628195179353

microglia
0.8

oligodendrocytes
1

pyramidal CA1
0.1

pyramidal SS
0
Fold enrichment: 1.74532935167623
Standard deviations from mean: 3.18816102564295

see ?ewceData and browseVignettes('ewceData') for documentation
loading from cache
see ?ewceData and browseVignettes('ewceData') for documentation
loading from cache
see ?ewceData and browseVignettes('ewceData') for documentation
loading from cache
see ?ewceData and browseVignettes('ewceData') for documentation
loading from cache
see ?ewceData and browseVignettes('ewceData') for documentation
loading from cache
see ?ewceData and browseVignettes('ewceData') for documentation
loading from cache
see ?ewceData and browseVignettes('ewceData') for documentation
loading from cache
see ?ewceData and browseVignettes('ewceData') for documentation
loading from cache
see ?ewceData and browseVignettes('ewceData') for documentation
loading from cache
see ?ewceData and browseVignettes('ewceData') for documentation
loading from cache
see ?ewceData and browseVignettes('ewceData') for documentation
loading from cache
CONTROLLED BOOTSTRAPPING NETWORK GENERATED
Abca7, Apoe, Bin1, Cass4, Cd2ap, Celf1, Clu, Fermt2, Inpp5d, Mef2c, Nme8, Picalm, Ptk2b, Slc24a4, Sorl1, Zcwpw1
astrocytes_ependymal
0.07

endothelial-mural
0.74

interneurons
1

microglia
0.02
Fold enrichment: 1.66844158222748
Standard deviations from mean: 2.27154805377459

oligodendrocytes
0.71

pyramidal CA1
0.58

pyramidal SS
0.63

see ?ewceData and browseVignettes('ewceData') for documentation
loading from cache
see ?ewceData and browseVignettes('ewceData') for documentation
loading from cache
see ?ewceData and browseVignettes('ewceData') for documentation
loading from cache
see ?ewceData and browseVignettes('ewceData') for documentation
loading from cache
see ?ewceData and browseVignettes('ewceData') for documentation
loading from cache
see ?ewceData and browseVignettes('ewceData') for documentation
loading from cache
see ?ewceData and browseVignettes('ewceData') for documentation
loading from cache
see ?ewceData and browseVignettes('ewceData') for documentation
loading from cache
see ?ewceData and browseVignettes('ewceData') for documentation
loading from cache
see ?ewceData and browseVignettes('ewceData') for documentation
loading from cache
see ?ewceData and browseVignettes('ewceData') for documentation
loading from cache
see ?ewceData and browseVignettes('ewceData') for documentation
loading from cache
see ?ewceData and browseVignettes('ewceData') for documentation
loading from cache
see ?ewceData and browseVignettes('ewceData') for documentation
loading from cache
see ?ewceData and browseVignettes('ewceData') for documentation
loading from cache
see ?ewceData and browseVignettes('ewceData') for documentation
loading from cache
see ?ewceData and browseVignettes('ewceData') for documentation
loading from cache
see ?ewceData and browseVignettes('ewceData') for documentation
loading from cache
Prpf38b, Ppp2r5c, Dnajc1, Cbx5, Tbc1d2b, Col6a1, Ncan, Myh14, Cxcr4, Gpr161, Col5a3, Repin1, Ddc, Sall3, Zc3h14, Efcab2, Frzb, Adam33, Tmcc2, Nrip2, Sox12, Wwc1, Itga7, Selplg, Itgb5, Polr3g
astrocytes_ependymal
0.2

endothelial-mural
0
Fold enrichment: 1.35433709426435
Standard deviations from mean: 5.29340612207046

interneurons
1

microglia
0.2

oligodendrocytes
0.8

pyramidal CA1
1

pyramidal SS
1

see ?ewceData and browseVignettes('ewceData') for documentation
loading from cache
see ?ewceData and browseVignettes('ewceData') for documentation
loading from cache
see ?ewceData and browseVignettes('ewceData') for documentation
loading from cache
Aifm1, Psmd11, Tubb5, Kif9, Ank, Col12a1, Rsrc1, Parp2, Phtf1, Cirbp, Camk1g, Zcchc17, Thumpd3, Nat10, Prkab1, Asap1, Sema3a, Nek3, Ndufa10, Rbm3, Kctd5, Eif5, Nol6, Prss23, Susd4, Sssca1
astrocytes_ependymal
1

endothelial-mural
0.8

interneurons
0.2

microglia
0.4

oligodendrocytes
0.4

pyramidal CA1
0.6

pyramidal SS
0
Fold enrichment: 1.2475597536342
Standard deviations from mean: 3.49792945157607

see ?ewceData and browseVignettes('ewceData') for documentation
loading from cache
see ?ewceData and browseVignettes('ewceData') for documentation
loading from cache
see ?ewceData and browseVignettes('ewceData') for documentation
loading from cache
see ?ewceData and browseVignettes('ewceData') for documentation
loading from cache
see ?ewceData and browseVignettes('ewceData') for documentation
loading from cache
Vgll4, Ddx17, Nhsl1, Zc3h10, Sema5a, Add3, Litaf, Strap, Irf5
astrocytes_ependymal
0.2

endothelial-mural
0.2

interneurons
0.9

microglia
0.2

oligodendrocytes
0.2

pyramidal CA1
0.8

pyramidal SS
0.8

see ?ewceData and browseVignettes('ewceData') for documentation
loading from cache
see ?ewceData and browseVignettes('ewceData') for documentation
loading from cache
see ?ewceData and browseVignettes('ewceData') for documentation
loading from cache
Pdpk1, Sh2b2, Fam184b, Ppig, Egr4, Prpf40a, Plxna2, Ttc17
astrocytes_ependymal
0.7

endothelial-mural
0.7

interneurons
0.6

microglia
0
Fold enrichment: 1.49804244406422
Standard deviations from mean: 1.75098074520754

oligodendrocytes
0.9

pyramidal CA1
0.2

pyramidal SS
0.2

see ?ewceData and browseVignettes('ewceData') for documentation
loading from cache
see ?ewceData and browseVignettes('ewceData') for documentation
loading from cache
see ?ewceData and browseVignettes('ewceData') for documentation
loading from cache
Wdr31, Prmt2, Arpp19, Gab1, Mid1ip1, Rnf220, Ddx49, Fam171a1, Thap11, Myo10, Mcm7
astrocytes_ependymal
0.5

endothelial-mural
0.6

interneurons
0.8

microglia
0.7

oligodendrocytes
0
Fold enrichment: 1.54867695548019
Standard deviations from mean: 1.91970528493072

pyramidal CA1
0.5

pyramidal SS
0.4

see ?ewceData and browseVignettes('ewceData') for documentation
loading from cache
see ?ewceData and browseVignettes('ewceData') for documentation
loading from cache
see ?ewceData and browseVignettes('ewceData') for documentation
loading from cache
Rab36, Mab21l2, Pno1, Nup214, Dnajc18, Lgals8, Ahsa2, Rpl27a, Pop1, Fbln1
astrocytes_ependymal
0.6

endothelial-mural
0.1

interneurons
0.8

microglia
0.8

oligodendrocytes
0.3

pyramidal CA1
0.4

pyramidal SS
0.4

see ?ewceData and browseVignettes('ewceData') for documentation
loading from cache
trying URL 'http://www.informatics.jax.org/downloads/reports/MRK_List2.rpt'
Content type ' C`uÿ' length 38629932 bytes (36.8 MB)
==================================================
downloaded 36.8 MB

see ?ewceData and browseVignettes('ewceData') for documentation
loading from cache
see ?ewceData and browseVignettes('ewceData') for documentation
loading from cache
Warning: Input 'exp' stored as characters. Converting to numeric. Check that it looks correct.
see ?ewceData and browseVignettes('ewceData') for documentation
loading from cache
1 rows do not have proper MGI symbols
Mar-01
see ?ewceData and browseVignettes('ewceData') for documentation
loading from cache
1 rows do not have proper MGI symbols
Mar-01
see ?ewceData and browseVignettes('ewceData') for documentation
loading from cache
10 of 10 are not proper HGNC symbols
Possible corruption of gene names by excel: Mar-01
see ?ewceData and browseVignettes('ewceData') for documentation
loading from cache
10 of 10 are not proper HGNC symbols
Possible corruption of gene names by excel: Mar-01
Maps last updated on: Thu Oct 24 12:31:05 2019
Maps last updated on: Thu Oct 24 12:31:05 2019
9 of 10 gene symbols corrected
1 of 10 gene symbols cannot be mapped
see ?ewceData and browseVignettes('ewceData') for documentation
loading from cache
1 rows do not have proper MGI symbols
Tm4sf12
see ?ewceData and browseVignettes('ewceData') for documentation
loading from cache
1 poorly annotated genes are replicates of existing genes. These are: 
Tspan12
1 rows should have been corrected by checking synonms
0 rows STILL do not have proper MGI symbols

see ?ewceData and browseVignettes('ewceData') for documentation
loading from cache
0 rows do not have proper MGI symbols

see ?ewceData and browseVignettes('ewceData') for documentation
loading from cache
669 rows do not have proper MGI symbols
2310042E22Rik, BC005764, C130030K03Rik, Stmn1-rs1, Gm9846, E130309F12Rik, Fam211b, AI848285, Acpl2, 9630033F20Rik, Adrbk2, Syne1_loc2, Adc, Dlx1os, LOC106740, Pdxp, Atp6v0c-ps2, 2900056M20Rik, Epb4.1l1, A330050F15Rik
see ?ewceData and browseVignettes('ewceData') for documentation
loading from cache
308 rows do not have proper MGI symbols
2310042E22Rik, BC005764, C130030K03Rik, Stmn1-rs1, Gm9846, E130309F12Rik, Fam211b, AI848285, Acpl2, 9630033F20Rik, Adrbk2, Syne1_loc2, Adc, Dlx1os, LOC106740, Pdxp, Atp6v0c-ps2, 2900056M20Rik, Epb4.1l1, A330050F15Rik
see ?ewceData and browseVignettes('ewceData') for documentation
loading from cache
1 poorly annotated genes are replicates of existing genes. These are: 
Hjurp
185 rows should have been corrected by checking synonms
126 rows STILL do not have proper MGI symbols
see ?ewceData and browseVignettes('ewceData') for documentation
loading from cache
308 rows do not have proper MGI symbols
2310042E22Rik, BC005764, C130030K03Rik, Stmn1-rs1, Gm9846, E130309F12Rik, Fam211b, AI848285, Acpl2, 9630033F20Rik, Adrbk2, Syne1_loc2, Adc, Dlx1os, LOC106740, Pdxp, Atp6v0c-ps2, 2900056M20Rik, Epb4.1l1, A330050F15Rik
see ?ewceData and browseVignettes('ewceData') for documentation
loading from cache
1 poorly annotated genes are replicates of existing genes. These are: 
Hjurp
185 rows should have been corrected by checking synonms
126 rows STILL do not have proper MGI symbols
see ?ewceData and browseVignettes('ewceData') for documentation
loading from cache
[ FAIL 0 | WARN 0 | SKIP 0 | PASS 15 ]
> 
> proc.time()
   user  system elapsed 
 334.62   11.82  419.50 

Example timings

EWCE.Rcheck/examples_i386/EWCE-Ex.timings

nameusersystemelapsed
add_res_to_merging_list15.63 2.1119.40
bin_columns_into_quantiles7.090.187.44
bin_specificity_into_quantiles6.590.357.25
bootstrap_enrichment_test18.19 0.6220.11
check_ewce_genelist_inputs17.42 0.7219.31
controlled_geneset_enrichment19.09 0.5820.95
drop_uninformative_genes5.710.256.25
ewce_expression_data22.53 0.7324.69
ewce_plot16.81 0.7118.64
filter_genes_without_1to1_homolog8.090.409.00
fix_bad_hgnc_symbols3.030.133.33
fix_bad_mgi_symbols11.21 0.4412.19
generate_bootstrap_plots26.17 2.0730.11
generate_bootstrap_plots_for_transcriptome000
generate_celltype_data5.440.275.85
generate_controlled_bootstrap_geneset000
get_celltype_table5.590.226.00
get_summed_proportions000
merge_two_expfiles000
merged_ewce000
prep_dendro6.220.126.54
prepare_genesize_control_network000

EWCE.Rcheck/examples_x64/EWCE-Ex.timings

nameusersystemelapsed
add_res_to_merging_list13.03 1.3815.72
bin_columns_into_quantiles6.980.157.51
bin_specificity_into_quantiles6.530.257.19
bootstrap_enrichment_test18.75 0.6920.63
check_ewce_genelist_inputs17.38 0.5819.70
controlled_geneset_enrichment18.39 1.0620.53
drop_uninformative_genes5.200.205.72
ewce_expression_data24.32 0.8926.81
ewce_plot17.51 0.6819.22
filter_genes_without_1to1_homolog7.910.398.63
fix_bad_hgnc_symbols3.110.143.40
fix_bad_mgi_symbols10.79 0.4711.86
generate_bootstrap_plots25.75 1.0428.42
generate_bootstrap_plots_for_transcriptome000
generate_celltype_data5.540.416.11
generate_controlled_bootstrap_geneset000
get_celltype_table4.920.415.50
get_summed_proportions000
merge_two_expfiles000
merged_ewce000
prep_dendro5.680.186.08
prepare_genesize_control_network000