Index of /checkResults/release/bioc-LATEST/EWCE/raw-results

[ICO]NameLast modifiedSizeDescription

[DIR]Parent Directory  -  
[   ]info.dcf30-May-2023 00:06 266  
[DIR]merida1/30-May-2023 00:06 -  
[DIR]nebbiolo1/30-May-2023 00:05 -  
[DIR]palomino3/30-May-2023 00:06 -