Back to Multiple platform build/check report for BioC 3.16:   simplified   long
ABCD[E]FGHIJKLMNOPQRSTUVWXYZ

This page was generated on 2023-03-20 11:05:00 -0400 (Mon, 20 Mar 2023).

HostnameOSArch (*)R versionInstalled pkgs
nebbiolo2Linux (Ubuntu 20.04.5 LTS)x86_644.2.2 (2022-10-31) -- "Innocent and Trusting" 4516
palomino4Windows Server 2022 Datacenterx644.2.2 (2022-10-31 ucrt) -- "Innocent and Trusting" 4295
lconwaymacOS 12.5.1 Montereyx86_644.2.2 (2022-10-31) -- "Innocent and Trusting" 4324
Click on any hostname to see more info about the system (e.g. compilers)      (*) as reported by 'uname -p', except on Windows and Mac OS X

BUILD results for EWCE on nebbiolo2


To the developers/maintainers of the EWCE package:
- Please allow up to 24 hours (and sometimes 48 hours) for your latest push to git@git.bioconductor.org:packages/EWCE.git to
reflect on this report. See How and When does the builder pull? When will my changes propagate? for more information.
- Make sure to use the following settings in order to reproduce any error or warning you see on this page.

raw results

Package 642/2183HostnameOS / ArchINSTALLBUILDCHECKBUILD BIN
EWCE 1.6.0  (landing page)
Alan Murphy
Snapshot Date: 2023-03-17 14:00:04 -0400 (Fri, 17 Mar 2023)
git_url: https://git.bioconductor.org/packages/EWCE
git_branch: RELEASE_3_16
git_last_commit: e37a8f2
git_last_commit_date: 2022-11-01 11:24:37 -0400 (Tue, 01 Nov 2022)
nebbiolo2Linux (Ubuntu 20.04.5 LTS) / x86_64  OK    OK    OK  UNNEEDED, same version is already published
palomino4Windows Server 2022 Datacenter / x64  OK    OK    OK    OK  UNNEEDED, same version is already published
lconwaymacOS 12.5.1 Monterey / x86_64  OK    OK    OK    OK  UNNEEDED, same version is already published

Summary

Package: EWCE
Version: 1.6.0
Command: /home/biocbuild/bbs-3.16-bioc/R/bin/R CMD build --keep-empty-dirs --no-resave-data EWCE
StartedAt: 2023-03-17 16:43:45 -0400 (Fri, 17 Mar 2023)
EndedAt: 2023-03-17 16:48:30 -0400 (Fri, 17 Mar 2023)
EllapsedTime: 284.9 seconds
RetCode: 0
Status:   OK  
PackageFile: EWCE_1.6.0.tar.gz
PackageFileSize: 1.957 MiB

Command output

##############################################################################
##############################################################################
###
### Running command:
###
###   /home/biocbuild/bbs-3.16-bioc/R/bin/R CMD build --keep-empty-dirs --no-resave-data EWCE
###
##############################################################################
##############################################################################


* checking for file ‘EWCE/DESCRIPTION’ ... OK
* preparing ‘EWCE’:
* checking DESCRIPTION meta-information ... OK
* installing the package to build vignettes
* creating vignettes ... OK
* checking for LF line-endings in source and make files and shell scripts
* checking for empty or unneeded directories
WARNING: directory ‘EWCE/inst/extdata’ is empty
* building ‘EWCE_1.6.0.tar.gz’