Back to Multiple platform build/check report for BioC 3.14
ABCD[E]FGHIJKLMNOPQRSTUVWXYZ

This page was generated on 2021-12-03 13:05:46 -0500 (Fri, 03 Dec 2021).

BUILD BIN results for EWCE on machv2

To the developers/maintainers of the EWCE package:
- Please allow up to 24 hours (and sometimes 48 hours) for your latest push to git@git.bioconductor.org:packages/EWCE.git to
reflect on this report. See How and When does the builder pull? When will my changes propagate? here for more information.
- Make sure to use the following settings in order to reproduce any error or warning you see on this page.

raw results

Package 610/2083HostnameOS / ArchINSTALLBUILDCHECKBUILD BIN
EWCE 1.2.0  (landing page)
Alan Murphy
Snapshot Date: 2021-12-02 01:55:06 -0500 (Thu, 02 Dec 2021)
git_url: https://git.bioconductor.org/packages/EWCE
git_branch: RELEASE_3_14
git_last_commit: 1ec3e6d
git_last_commit_date: 2021-10-26 13:08:44 -0500 (Tue, 26 Oct 2021)
nebbiolo2Linux (Ubuntu 20.04.3 LTS) / x86_64  OK    OK    OK  UNNEEDED, same version is already published
tokay2Windows Server 2012 R2 Standard / x64  OK    OK    OK    OK  UNNEEDED, same version is already published
machv2macOS 10.14.6 Mojave / x86_64  OK    OK    OK    OK  UNNEEDED, same version is already published

Summary

Package: EWCE
Version: 1.2.0
Command: rm -rf EWCE.buildbin-libdir && mkdir EWCE.buildbin-libdir && /Users/biocbuild/BBS/utils/build-universal.sh EWCE_1.2.0.tar.gz /Library/Frameworks/R.framework/Resources/bin/R EWCE.buildbin-libdir
StartedAt: 2021-12-02 22:00:55 -0500 (Thu, 02 Dec 2021)
EndedAt: 2021-12-02 22:01:45 -0500 (Thu, 02 Dec 2021)
EllapsedTime: 49.2 seconds
RetCode: 0
Status:   OK  
PackageFile: EWCE_1.2.0.tgz
PackageFileSize: 1.058 MiB

Command output

##############################################################################
##############################################################################
###
### Running command:
###
###   rm -rf EWCE.buildbin-libdir && mkdir EWCE.buildbin-libdir && /Users/biocbuild/BBS/utils/build-universal.sh EWCE_1.2.0.tar.gz /Library/Frameworks/R.framework/Resources/bin/R EWCE.buildbin-libdir
###
##############################################################################
##############################################################################


>>>>>>> 
>>>>>>> INSTALLATION WITH 'R CMD INSTALL --preclean --no-multiarch --library=EWCE.buildbin-libdir EWCE_1.2.0.tar.gz'
>>>>>>> 

* installing *source* package ‘EWCE’ ...
** using staged installation
** R
** inst
** byte-compile and prepare package for lazy loading
** help
*** installing help indices
** building package indices
** installing vignettes
** testing if installed package can be loaded from temporary location
** testing if installed package can be loaded from final location
** testing if installed package keeps a record of temporary installation path
* DONE (EWCE)