Back to Multiple platform build/check report for BioC 3.14
ABCD[E]FGHIJKLMNOPQRSTUVWXYZ

This page was generated on 2021-12-01 17:17:48 -0500 (Wed, 01 Dec 2021).

BUILD results for ENmix on tokay2

To the developers/maintainers of the ENmix package:
- Please allow up to 24 hours (and sometimes 48 hours) for your latest push to git@git.bioconductor.org:packages/ENmix.git to
reflect on this report. See How and When does the builder pull? When will my changes propagate? here for more information.
- Make sure to use the following settings in order to reproduce any error or warning you see on this page.

raw results

Package 579/2083HostnameOS / ArchINSTALLBUILDCHECKBUILD BIN
ENmix 1.30.0  (landing page)
Zongli Xu
Snapshot Date: 2021-11-30 04:15:05 -0500 (Tue, 30 Nov 2021)
git_url: https://git.bioconductor.org/packages/ENmix
git_branch: RELEASE_3_14
git_last_commit: 2b8095d
git_last_commit_date: 2021-10-26 12:20:15 -0500 (Tue, 26 Oct 2021)
nebbiolo2Linux (Ubuntu 20.04.3 LTS) / x86_64  OK    OK    OK  UNNEEDED, same version is already published
tokay2Windows Server 2012 R2 Standard / x64  OK    OK    OK    OK  UNNEEDED, same version is already published
machv2macOS 10.14.6 Mojave / x86_64  OK    OK    OK    OK  UNNEEDED, same version is already published

Summary

Package: ENmix
Version: 1.30.0
Command: chmod a+r ENmix -R && C:\Users\biocbuild\bbs-3.14-bioc\R\bin\R.exe CMD build --keep-empty-dirs --no-resave-data ENmix
StartedAt: 2021-11-30 12:47:08 -0500 (Tue, 30 Nov 2021)
EndedAt: 2021-11-30 12:51:40 -0500 (Tue, 30 Nov 2021)
EllapsedTime: 271.6 seconds
RetCode: 0
Status:   OK  
PackageFile: ENmix_1.30.0.tar.gz
PackageFileSize: 1.617 MiB

Command output

##############################################################################
##############################################################################
###
### Running command:
###
###   chmod a+r ENmix -R && C:\Users\biocbuild\bbs-3.14-bioc\R\bin\R.exe CMD build --keep-empty-dirs --no-resave-data ENmix
###
##############################################################################
##############################################################################


* checking for file 'ENmix/DESCRIPTION' ... OK
* preparing 'ENmix':
* checking DESCRIPTION meta-information ... OK
* installing the package to build vignettes
* creating vignettes ... OK
* checking for LF line-endings in source and make files and shell scripts
* checking for empty or unneeded directories
* building 'ENmix_1.30.0.tar.gz'