Back to Multiple platform build/check report for BioC 3.14
ABCD[E]FGHIJKLMNOPQRSTUVWXYZ

This page was generated on 2021-12-01 17:17:48 -0500 (Wed, 01 Dec 2021).

BUILD BIN results for ENmix on tokay2

To the developers/maintainers of the ENmix package:
- Please allow up to 24 hours (and sometimes 48 hours) for your latest push to git@git.bioconductor.org:packages/ENmix.git to
reflect on this report. See How and When does the builder pull? When will my changes propagate? here for more information.
- Make sure to use the following settings in order to reproduce any error or warning you see on this page.

raw results

Package 579/2083HostnameOS / ArchINSTALLBUILDCHECKBUILD BIN
ENmix 1.30.0  (landing page)
Zongli Xu
Snapshot Date: 2021-11-30 04:15:05 -0500 (Tue, 30 Nov 2021)
git_url: https://git.bioconductor.org/packages/ENmix
git_branch: RELEASE_3_14
git_last_commit: 2b8095d
git_last_commit_date: 2021-10-26 12:20:15 -0500 (Tue, 26 Oct 2021)
nebbiolo2Linux (Ubuntu 20.04.3 LTS) / x86_64  OK    OK    OK  UNNEEDED, same version is already published
tokay2Windows Server 2012 R2 Standard / x64  OK    OK    OK    OK  UNNEEDED, same version is already published
machv2macOS 10.14.6 Mojave / x86_64  OK    OK    OK    OK  UNNEEDED, same version is already published

Summary

Package: ENmix
Version: 1.30.0
Command: rm -rf ENmix.buildbin-libdir && mkdir ENmix.buildbin-libdir && C:\Users\biocbuild\bbs-3.14-bioc\R\bin\R.exe CMD INSTALL --merge-multiarch --build --library=ENmix.buildbin-libdir ENmix_1.30.0.tar.gz
StartedAt: 2021-12-01 09:43:50 -0500 (Wed, 01 Dec 2021)
EndedAt: 2021-12-01 09:45:10 -0500 (Wed, 01 Dec 2021)
EllapsedTime: 79.8 seconds
RetCode: 0
Status:   OK  
PackageFile: ENmix_1.30.0.zip
PackageFileSize: 1.565 MiB

Command output

##############################################################################
##############################################################################
###
### Running command:
###
###   rm -rf ENmix.buildbin-libdir && mkdir ENmix.buildbin-libdir && C:\Users\biocbuild\bbs-3.14-bioc\R\bin\R.exe CMD INSTALL --merge-multiarch --build --library=ENmix.buildbin-libdir ENmix_1.30.0.tar.gz
###
##############################################################################
##############################################################################



install for i386

* installing *source* package 'ENmix' ...
** using staged installation
** R
** inst
** byte-compile and prepare package for lazy loading
** help
*** installing help indices
  converting help for package 'ENmix'
    finding HTML links ... done
    B2M                                     html  
    M2B                                     html  
    QCinfo                                  html  
    calcdetP                                html  
    combp                                   html  
    ctrlsva                                 html  
    dupicc                                  html  
    estimateCellProp                        html  
    freqpoly                                html  
    getB                                    html  
    getCGinfo                               html  
    getmeth                                 html  
    ipdmr                                   html  
    methDataSet-class                       html  
    methyAge                                html  
    mhtplot                                 html  
    mpreprocess                             html  
    finding level-2 HTML links ... done

    multifreqpoly                           html  
    nmode                                   html  
    norm.quantile                           html  
    oxBS.MLE                                html  
    p.qqplot                                html  
    pcrplot                                 html  
    plotCtrl                                html  
    predSex                                 html  
    preprocessENmix                         html  
    qcfilter                                html  
    rcp                                     html  
    readidat                                html  
    readmanifest                            html  
    relic                                   html  
    rgDataSet-class                         html  
    simubed                                 html  
** building package indices
** installing vignettes
** testing if installed package can be loaded from temporary location
** testing if installed package can be loaded from final location
** testing if installed package keeps a record of temporary installation path

install for x64

* installing *source* package 'ENmix' ...
** testing if installed package can be loaded
* MD5 sums
packaged installation of 'ENmix' as ENmix_1.30.0.zip
* DONE (ENmix)