Back to Multiple platform build/check report for BioC 3.14
ABCD[E]FGHIJKLMNOPQRSTUVWXYZ

This page was generated on 2021-12-01 17:18:16 -0500 (Wed, 01 Dec 2021).

BUILD BIN results for ENCODExplorer on machv2

To the developers/maintainers of the ENCODExplorer package:
- Please allow up to 24 hours (and sometimes 48 hours) for your latest push to git@git.bioconductor.org:packages/ENCODExplorer.git to
reflect on this report. See How and When does the builder pull? When will my changes propagate? here for more information.
- Make sure to use the following settings in order to reproduce any error or warning you see on this page.

raw results

Package 575/2083HostnameOS / ArchINSTALLBUILDCHECKBUILD BIN
ENCODExplorer 2.20.0  (landing page)
Charles Joly Beauparlant
Snapshot Date: 2021-11-30 04:15:05 -0500 (Tue, 30 Nov 2021)
git_url: https://git.bioconductor.org/packages/ENCODExplorer
git_branch: RELEASE_3_14
git_last_commit: 5a12d2d
git_last_commit_date: 2021-10-26 12:20:28 -0500 (Tue, 26 Oct 2021)
nebbiolo2Linux (Ubuntu 20.04.3 LTS) / x86_64  OK    OK    ERROR  
tokay2Windows Server 2012 R2 Standard / x64  OK    OK    ERROR    OK  
machv2macOS 10.14.6 Mojave / x86_64  OK    OK    ERROR    OK  

Summary

Package: ENCODExplorer
Version: 2.20.0
Command: rm -rf ENCODExplorer.buildbin-libdir && mkdir ENCODExplorer.buildbin-libdir && /Users/biocbuild/BBS/utils/build-universal.sh ENCODExplorer_2.20.0.tar.gz /Library/Frameworks/R.framework/Resources/bin/R ENCODExplorer.buildbin-libdir
StartedAt: 2021-12-01 00:01:17 -0500 (Wed, 01 Dec 2021)
EndedAt: 2021-12-01 00:02:28 -0500 (Wed, 01 Dec 2021)
EllapsedTime: 70.6 seconds
RetCode: 0
Status:   OK  
PackageFile: ENCODExplorer_2.20.0.tgz
PackageFileSize: 1.353 MiB

Command output

##############################################################################
##############################################################################
###
### Running command:
###
###   rm -rf ENCODExplorer.buildbin-libdir && mkdir ENCODExplorer.buildbin-libdir && /Users/biocbuild/BBS/utils/build-universal.sh ENCODExplorer_2.20.0.tar.gz /Library/Frameworks/R.framework/Resources/bin/R ENCODExplorer.buildbin-libdir
###
##############################################################################
##############################################################################


>>>>>>> 
>>>>>>> INSTALLATION WITH 'R CMD INSTALL --preclean --no-multiarch --library=ENCODExplorer.buildbin-libdir ENCODExplorer_2.20.0.tar.gz'
>>>>>>> 

* installing *source* package ‘ENCODExplorer’ ...
** using staged installation
** R
** inst
** byte-compile and prepare package for lazy loading
** help
*** installing help indices
** building package indices
** installing vignettes
** testing if installed package can be loaded from temporary location
Warning: Package 'ENCODExplorer' is deprecated and will be removed from
  Bioconductor version 3.15
** testing if installed package can be loaded from final location
Warning: Package 'ENCODExplorer' is deprecated and will be removed from
  Bioconductor version 3.15
** testing if installed package keeps a record of temporary installation path
* DONE (ENCODExplorer)