![]() | Name | Last modified | Size | Description |
---|---|---|---|---|
![]() | Parent Directory | - | ||
![]() | buildsrc-out.txt | 01-Oct-2023 00:35 | 838 | |
![]() | buildsrc-summary.dcf | 01-Oct-2023 00:35 | 411 | |
![]() | checksrc-out.txt | 01-Oct-2023 00:35 | 7.1K | |
![]() | checksrc-summary.dcf | 01-Oct-2023 00:35 | 413 | |
![]() | install-out.txt | 01-Oct-2023 00:35 | 1.1K | |
![]() | install-summary.dcf | 01-Oct-2023 00:35 | 255 | |