Back to Multiple platform build/check report for BioC 3.16:   simplified   long
ABCD[E]FGHIJKLMNOPQRSTUVWXYZ

This page was generated on 2023-03-27 11:05:25 -0400 (Mon, 27 Mar 2023).

HostnameOSArch (*)R versionInstalled pkgs
nebbiolo2Linux (Ubuntu 20.04.5 LTS)x86_644.2.3 (2023-03-15) -- "Shortstop Beagle" 4480
palomino4Windows Server 2022 Datacenterx644.2.3 (2023-03-15 ucrt) -- "Shortstop Beagle" 4276
lconwaymacOS 12.5.1 Montereyx86_644.2.3 (2023-03-15) -- "Shortstop Beagle" 4304
Click on any hostname to see more info about the system (e.g. compilers)      (*) as reported by 'uname -p', except on Windows and Mac OS X

INSTALL results for ELMER on palomino4


To the developers/maintainers of the ELMER package:
- Please allow up to 24 hours (and sometimes 48 hours) for your latest push to git@git.bioconductor.org:packages/ELMER.git to
reflect on this report. See How and When does the builder pull? When will my changes propagate? for more information.
- Make sure to use the following settings in order to reproduce any error or warning you see on this page.

raw results

Package 602/2183HostnameOS / ArchINSTALLBUILDCHECKBUILD BIN
ELMER 2.22.0  (landing page)
Tiago Chedraoui Silva
Snapshot Date: 2023-03-24 14:00:04 -0400 (Fri, 24 Mar 2023)
git_url: https://git.bioconductor.org/packages/ELMER
git_branch: RELEASE_3_16
git_last_commit: a3d5369
git_last_commit_date: 2022-11-01 11:11:45 -0400 (Tue, 01 Nov 2022)
nebbiolo2Linux (Ubuntu 20.04.5 LTS) / x86_64  OK    OK    WARNINGS  UNNEEDED, same version is already published
palomino4Windows Server 2022 Datacenter / x64  OK    OK    WARNINGS    OK  UNNEEDED, same version is already published
lconwaymacOS 12.5.1 Monterey / x86_64  OK    OK    WARNINGS    OK  UNNEEDED, same version is already published

Summary

Package: ELMER
Version: 2.22.0
Command: F:\biocbuild\bbs-3.16-bioc\R\bin\R.exe CMD INSTALL ELMER
StartedAt: 2023-03-24 16:48:33 -0400 (Fri, 24 Mar 2023)
EndedAt: 2023-03-24 16:49:38 -0400 (Fri, 24 Mar 2023)
EllapsedTime: 64.9 seconds
RetCode: 0
Status:   OK  

Command output

##############################################################################
##############################################################################
###
### Running command:
###
###   F:\biocbuild\bbs-3.16-bioc\R\bin\R.exe CMD INSTALL ELMER
###
##############################################################################
##############################################################################


* installing to library 'F:/biocbuild/bbs-3.16-bioc/R/library'
* installing *source* package 'ELMER' ...
** using staged installation
** R
** inst
** byte-compile and prepare package for lazy loading
** help
*** installing help indices
** building package indices
** installing vignettes
** testing if installed package can be loaded from temporary location
** testing if installed package can be loaded from final location
** testing if installed package keeps a record of temporary installation path
* DONE (ELMER)