Index of /checkResults/release/bioc-LATEST/EGSEA/raw-results/riesling1

[ICO]NameLast modifiedSizeDescription

[DIR]Parent Directory  -  
[   ]install-summary.dcf19-Mar-2022 00:07 264  
[   ]buildsrc-summary.dcf19-Mar-2022 00:07 445  
[   ]checksrc-summary.dcf19-Mar-2022 00:07 445  
[   ]buildbin-summary.dcf19-Mar-2022 00:07 503  
[TXT]buildsrc-out.txt19-Mar-2022 00:07 889  
[TXT]install-out.txt19-Mar-2022 00:07 1.7K 
[TXT]buildbin-out.txt19-Mar-2022 00:07 1.8K 
[TXT]checksrc-out.txt19-Mar-2022 00:07 4.3K