Index of /checkResults/release/bioc-LATEST/EGSEA/raw-results/palomino3

[ICO]NameLast modifiedSizeDescription

[DIR]Parent Directory  -  
[   ]install-summary.dcf16-Aug-2022 02:21 264  
[   ]buildsrc-summary.dcf16-Aug-2022 02:21 444  
[   ]checksrc-summary.dcf16-Aug-2022 02:21 445  
[   ]buildbin-summary.dcf16-Aug-2022 02:21 503  
[TXT]buildsrc-out.txt16-Aug-2022 02:21 889  
[TXT]install-out.txt16-Aug-2022 02:21 1.1K 
[TXT]buildbin-out.txt16-Aug-2022 02:21 1.3K 
[TXT]checksrc-out.txt16-Aug-2022 02:21 4.3K