Index of /checkResults/release/bioc-LATEST/EGSEA/raw-results/nebbiolo1

[ICO]NameLast modifiedSizeDescription

[DIR]Parent Directory  -  
[TXT]install-out.txt11-Aug-2022 04:39 1.1K 
[   ]install-summary.dcf11-Aug-2022 04:39 255  
[TXT]buildsrc-out.txt11-Aug-2022 04:39 861  
[   ]buildsrc-summary.dcf11-Aug-2022 04:39 412  
[   ]checksrc-summary.dcf11-Aug-2022 04:39 422  
[TXT]checksrc-out.txt11-Aug-2022 04:39 4.3K