Name | Last modified | Size | Description | |
---|---|---|---|---|
Parent Directory | - | |||
buildbin-out.txt | 27-Jul-2024 06:40 | 1.3K | ||
buildbin-summary.dcf | 27-Jul-2024 06:40 | 519 | ||
buildsrc-out.txt | 27-Jul-2024 06:40 | 871 | ||
buildsrc-summary.dcf | 27-Jul-2024 06:40 | 421 | ||
checksrc-out.txt | 27-Jul-2024 06:40 | 4.3K | ||
checksrc-summary.dcf | 27-Jul-2024 06:40 | 437 | ||
install-out.txt | 27-Jul-2024 06:40 | 1.2K | ||
install-summary.dcf | 27-Jul-2024 06:40 | 266 | ||