![]() | Name | Last modified | Size | Description |
---|---|---|---|---|
![]() | Parent Directory | - | ||
![]() | buildbin-out.txt | 03-Oct-2023 00:37 | 1.3K | |
![]() | buildbin-summary.dcf | 03-Oct-2023 00:37 | 517 | |
![]() | buildsrc-out.txt | 03-Oct-2023 00:37 | 871 | |
![]() | buildsrc-summary.dcf | 03-Oct-2023 00:37 | 422 | |
![]() | checksrc-out.txt | 03-Oct-2023 00:37 | 4.6K | |
![]() | checksrc-summary.dcf | 03-Oct-2023 00:37 | 443 | |
![]() | install-out.txt | 03-Oct-2023 00:37 | 1.2K | |
![]() | install-summary.dcf | 03-Oct-2023 00:37 | 266 | |