Name | Last modified | Size | Description | |
---|---|---|---|---|
Parent Directory | - | |||
install-summary.dcf | 13-Jul-2024 06:38 | 262 | ||
checksrc-summary.dcf | 13-Jul-2024 06:38 | 420 | ||
buildsrc-summary.dcf | 13-Jul-2024 06:38 | 421 | ||
buildsrc-out.txt | 13-Jul-2024 06:38 | 876 | ||
install-out.txt | 13-Jul-2024 06:38 | 966 | ||
checksrc-out.txt | 13-Jul-2024 06:38 | 3.6K | ||