Name | Last modified | Size | Description | |
---|---|---|---|---|
Parent Directory | - | |||
buildbin-out.txt | 17-Jul-2024 06:39 | 1.0K | ||
buildbin-summary.dcf | 17-Jul-2024 06:39 | 508 | ||
buildsrc-out.txt | 17-Jul-2024 06:39 | 760 | ||
buildsrc-summary.dcf | 17-Jul-2024 06:39 | 447 | ||
checksrc-out.txt | 17-Jul-2024 06:39 | 4.2K | ||
checksrc-summary.dcf | 17-Jul-2024 06:39 | 442 | ||
install-out.txt | 17-Jul-2024 06:39 | 925 | ||
install-summary.dcf | 17-Jul-2024 06:39 | 266 | ||