![]() | Name | Last modified | Size | Description |
---|---|---|---|---|
![]() | Parent Directory | - | ||
![]() | buildbin-out.txt | 01-Oct-2023 00:36 | 1.0K | |
![]() | buildbin-summary.dcf | 01-Oct-2023 00:36 | 506 | |
![]() | buildsrc-out.txt | 01-Oct-2023 00:36 | 760 | |
![]() | buildsrc-summary.dcf | 01-Oct-2023 00:36 | 447 | |
![]() | checksrc-out.txt | 01-Oct-2023 00:36 | 4.2K | |
![]() | checksrc-summary.dcf | 01-Oct-2023 00:36 | 442 | |
![]() | install-out.txt | 01-Oct-2023 00:36 | 925 | |
![]() | install-summary.dcf | 01-Oct-2023 00:36 | 266 | |