![]() | Name | Last modified | Size | Description |
---|---|---|---|---|
![]() | Parent Directory | - | ||
![]() | buildsrc-out.txt | 06-Aug-2022 03:19 | 730 | |
![]() | buildsrc-summary.dcf | 06-Aug-2022 03:19 | 413 | |
![]() | checksrc-out.txt | 06-Aug-2022 03:19 | 4.0K | |
![]() | checksrc-summary.dcf | 06-Aug-2022 03:19 | 419 | |
![]() | install-out.txt | 06-Aug-2022 03:19 | 912 | |
![]() | install-summary.dcf | 06-Aug-2022 03:19 | 257 | |