![]() | Name | Last modified | Size | Description |
---|---|---|---|---|
![]() | Parent Directory | - | ||
![]() | buildsrc-out.txt | 28-Sep-2023 00:35 | 730 | |
![]() | buildsrc-summary.dcf | 28-Sep-2023 00:35 | 413 | |
![]() | checksrc-out.txt | 28-Sep-2023 00:35 | 4.3K | |
![]() | checksrc-summary.dcf | 28-Sep-2023 00:35 | 409 | |
![]() | install-out.txt | 28-Sep-2023 00:35 | 917 | |
![]() | install-summary.dcf | 28-Sep-2023 00:35 | 256 | |