Name | Last modified | Size | Description | |
---|---|---|---|---|
Parent Directory | - | |||
install-summary.dcf | 17-Jul-2024 06:41 | 267 | ||
install-out.txt | 17-Jul-2024 06:41 | 952 | ||
checksrc-summary.dcf | 17-Jul-2024 06:41 | 439 | ||
checksrc-out.txt | 17-Jul-2024 06:41 | 4.3K | ||
buildsrc-summary.dcf | 17-Jul-2024 06:41 | 423 | ||
buildsrc-out.txt | 17-Jul-2024 06:41 | 740 | ||
buildbin-summary.dcf | 17-Jul-2024 06:41 | 524 | ||
buildbin-out.txt | 17-Jul-2024 06:41 | 1.1K | ||