Index of /checkResults/release/bioc-LATEST/DynDoc/raw-results/merida1

[ICO]NameLast modifiedSizeDescription

[DIR]Parent Directory  -  
[TXT]buildbin-out.txt02-Jul-2022 01:07 1.1K 
[   ]buildbin-summary.dcf02-Jul-2022 01:07 523  
[TXT]buildsrc-out.txt02-Jul-2022 01:07 740  
[   ]buildsrc-summary.dcf02-Jul-2022 01:07 423  
[TXT]checksrc-out.txt02-Jul-2022 01:07 4.1K 
[   ]checksrc-summary.dcf02-Jul-2022 01:07 439  
[TXT]install-out.txt02-Jul-2022 01:07 945  
[   ]install-summary.dcf02-Jul-2022 01:07 267