Name | Last modified | Size | Description | |
---|---|---|---|---|
Parent Directory | - | |||
buildbin-summary.dcf | 17-Jul-2024 06:41 | 512 | ||
buildbin-out.txt | 17-Jul-2024 06:41 | 1.2K | ||
checksrc-summary.dcf | 17-Jul-2024 06:41 | 432 | ||
checksrc-out.txt | 17-Jul-2024 06:41 | 5.8K | ||
buildsrc-summary.dcf | 17-Jul-2024 06:41 | 418 | ||
buildsrc-out.txt | 17-Jul-2024 06:41 | 804 | ||
install-summary.dcf | 17-Jul-2024 06:41 | 263 | ||
install-out.txt | 17-Jul-2024 06:41 | 1.0K | ||