Name | Last modified | Size | Description | |
---|---|---|---|---|
Parent Directory | - | |||
install-summary.dcf | 11-May-2024 00:37 | 279 | ||
install-out.txt | 11-May-2024 00:37 | 28K | ||
checksrc-summary.dcf | 11-May-2024 00:37 | 470 | ||
checksrc-out.txt | 11-May-2024 00:37 | 4.9K | ||
buildsrc-summary.dcf | 11-May-2024 00:37 | 443 | ||
buildsrc-out.txt | 11-May-2024 00:37 | 866 | ||
buildbin-summary.dcf | 11-May-2024 00:37 | 561 | ||
buildbin-out.txt | 11-May-2024 00:37 | 30K | ||