Back to Multiple platform build/check report for BioC 3.18:   simplified   long
ABC[D]EFGHIJKLMNOPQRSTUVWXYZ

This page was generated on 2024-02-22 11:36:43 -0500 (Thu, 22 Feb 2024).

HostnameOSArch (*)R versionInstalled pkgs
nebbiolo2Linux (Ubuntu 22.04.3 LTS)x86_644.3.2 Patched (2023-11-13 r85521) -- "Eye Holes" 4691
palomino4Windows Server 2022 Datacenterx644.3.2 (2023-10-31 ucrt) -- "Eye Holes" 4444
lconwaymacOS 12.7.1 Montereyx86_644.3.2 Patched (2023-11-01 r85457) -- "Eye Holes" 4465
Click on any hostname to see more info about the system (e.g. compilers)      (*) as reported by 'uname -p', except on Windows and Mac OS X

Package 601/2266HostnameOS / ArchINSTALLBUILDCHECKBUILD BIN
DropletUtils 1.22.0  (landing page)
Jonathan Griffiths
Snapshot Date: 2024-02-21 14:05:05 -0500 (Wed, 21 Feb 2024)
git_url: https://git.bioconductor.org/packages/DropletUtils
git_branch: RELEASE_3_18
git_last_commit: 56d3ce8
git_last_commit_date: 2023-10-24 11:02:09 -0500 (Tue, 24 Oct 2023)
nebbiolo2Linux (Ubuntu 22.04.3 LTS) / x86_64  OK    OK    WARNINGS  UNNEEDED, same version is already published
palomino4Windows Server 2022 Datacenter / x64  OK    OK    OK    OK  UNNEEDED, same version is already published
lconwaymacOS 12.7.1 Monterey / x86_64  OK    OK    WARNINGS    OK  UNNEEDED, same version is already published
kjohnson1macOS 13.6.1 Ventura / arm64see weekly results here

INSTALL results for DropletUtils on palomino4


To the developers/maintainers of the DropletUtils package:
- Allow up to 24 hours (and sometimes 48 hours) for your latest push to git@git.bioconductor.org:packages/DropletUtils.git to reflect on this report. See Troubleshooting Build Report for more information.
- Use the following Renviron settings to reproduce errors and warnings.
- If 'R CMD check' started to fail recently on the Linux builder(s) over a missing dependency, add the missing dependency to 'Suggests:' in your DESCRIPTION file. See Renviron.bioc for more information.

raw results


Summary

Package: DropletUtils
Version: 1.22.0
Command: F:\biocbuild\bbs-3.18-bioc\R\bin\R.exe CMD INSTALL DropletUtils
StartedAt: 2024-02-21 15:56:49 -0500 (Wed, 21 Feb 2024)
EndedAt: 2024-02-21 15:58:30 -0500 (Wed, 21 Feb 2024)
EllapsedTime: 101.3 seconds
RetCode: 0
Status:   OK  

Command output

##############################################################################
##############################################################################
###
### Running command:
###
###   F:\biocbuild\bbs-3.18-bioc\R\bin\R.exe CMD INSTALL DropletUtils
###
##############################################################################
##############################################################################


* installing to library 'F:/biocbuild/bbs-3.18-bioc/R/library'
* installing *source* package 'DropletUtils' ...
** using staged installation
** libs
using C++ compiler: 'G__~1.EXE (GCC) 12.3.0'
using C++11
g++  -std=gnu++11 -I"F:/biocbuild/bbs-3.18-bioc/R/include" -DNDEBUG  -I'F:/biocbuild/bbs-3.18-bioc/R/library/Rcpp/include' -I'F:/biocbuild/bbs-3.18-bioc/R/library/beachmat/include' -I'F:/biocbuild/bbs-3.18-bioc/R/library/Rhdf5lib/include' -I'F:/biocbuild/bbs-3.18-bioc/R/library/BH/include' -I'F:/biocbuild/bbs-3.18-bioc/R/library/dqrng/include' -I'F:/biocbuild/bbs-3.18-bioc/R/library/scuttle/include'   -I"C:/rtools43/x86_64-w64-mingw32.static.posix/include"     -O2 -Wall  -mfpmath=sse -msse2 -mstackrealign  -c RcppExports.cpp -o RcppExports.o
g++  -std=gnu++11 -I"F:/biocbuild/bbs-3.18-bioc/R/include" -DNDEBUG  -I'F:/biocbuild/bbs-3.18-bioc/R/library/Rcpp/include' -I'F:/biocbuild/bbs-3.18-bioc/R/library/beachmat/include' -I'F:/biocbuild/bbs-3.18-bioc/R/library/Rhdf5lib/include' -I'F:/biocbuild/bbs-3.18-bioc/R/library/BH/include' -I'F:/biocbuild/bbs-3.18-bioc/R/library/dqrng/include' -I'F:/biocbuild/bbs-3.18-bioc/R/library/scuttle/include'   -I"C:/rtools43/x86_64-w64-mingw32.static.posix/include"     -O2 -Wall  -mfpmath=sse -msse2 -mstackrealign  -c downsample_run.cpp -o downsample_run.o
g++  -std=gnu++11 -I"F:/biocbuild/bbs-3.18-bioc/R/include" -DNDEBUG  -I'F:/biocbuild/bbs-3.18-bioc/R/library/Rcpp/include' -I'F:/biocbuild/bbs-3.18-bioc/R/library/beachmat/include' -I'F:/biocbuild/bbs-3.18-bioc/R/library/Rhdf5lib/include' -I'F:/biocbuild/bbs-3.18-bioc/R/library/BH/include' -I'F:/biocbuild/bbs-3.18-bioc/R/library/dqrng/include' -I'F:/biocbuild/bbs-3.18-bioc/R/library/scuttle/include'   -I"C:/rtools43/x86_64-w64-mingw32.static.posix/include"     -O2 -Wall  -mfpmath=sse -msse2 -mstackrealign  -c encode_sequences.cpp -o encode_sequences.o
encode_sequences.cpp: In function 'Rcpp::IntegerVector encode_sequences(Rcpp::StringVector)':
encode_sequences.cpp:8:23: warning: comparison of integer expressions of different signedness: 'size_t' {aka 'long long unsigned int'} and 'R_xlen_t' {aka 'long long int'} [-Wsign-compare]
    8 |     for (size_t i=0; i<output.size(); ++i) {
      |                      ~^~~~~~~~~~~~~~
g++  -std=gnu++11 -I"F:/biocbuild/bbs-3.18-bioc/R/include" -DNDEBUG  -I'F:/biocbuild/bbs-3.18-bioc/R/library/Rcpp/include' -I'F:/biocbuild/bbs-3.18-bioc/R/library/beachmat/include' -I'F:/biocbuild/bbs-3.18-bioc/R/library/Rhdf5lib/include' -I'F:/biocbuild/bbs-3.18-bioc/R/library/BH/include' -I'F:/biocbuild/bbs-3.18-bioc/R/library/dqrng/include' -I'F:/biocbuild/bbs-3.18-bioc/R/library/scuttle/include'   -I"C:/rtools43/x86_64-w64-mingw32.static.posix/include"     -O2 -Wall  -mfpmath=sse -msse2 -mstackrealign  -c find_chimeric.cpp -o find_chimeric.o
find_chimeric.cpp: In function 'Rcpp::List find_chimeric(Rcpp::StringVector, Rcpp::IntegerVector, Rcpp::IntegerVector, double, bool)':
find_chimeric.cpp:28:23: warning: comparison of integer expressions of different signedness: 'size_t' {aka 'long long unsigned int'} and 'long long int' [-Wsign-compare]
   28 |     for (size_t i=0; i<nmolecules; ++i, ++uIt) {
      |                      ~^~~~~~~~~~~
g++  -std=gnu++11 -I"F:/biocbuild/bbs-3.18-bioc/R/include" -DNDEBUG  -I'F:/biocbuild/bbs-3.18-bioc/R/library/Rcpp/include' -I'F:/biocbuild/bbs-3.18-bioc/R/library/beachmat/include' -I'F:/biocbuild/bbs-3.18-bioc/R/library/Rhdf5lib/include' -I'F:/biocbuild/bbs-3.18-bioc/R/library/BH/include' -I'F:/biocbuild/bbs-3.18-bioc/R/library/dqrng/include' -I'F:/biocbuild/bbs-3.18-bioc/R/library/scuttle/include'   -I"C:/rtools43/x86_64-w64-mingw32.static.posix/include"     -O2 -Wall  -mfpmath=sse -msse2 -mstackrealign  -c find_swapped.cpp -o find_swapped.o
In file included from F:/biocbuild/bbs-3.18-bioc/R/library/beachmat/include/beachmat3/lin_matrix.h:12,
                 from F:/biocbuild/bbs-3.18-bioc/R/library/beachmat/include/beachmat3/read_lin_block.h:11,
                 from F:/biocbuild/bbs-3.18-bioc/R/library/beachmat/include/beachmat3/beachmat.h:24,
                 from find_swapped.cpp:2:
F:/biocbuild/bbs-3.18-bioc/R/library/beachmat/include/beachmat3/Csparse_reader.h: In instantiation of 'beachmat::SparseArraySeed_reader<V, TIT>::SparseArraySeed_reader(Rcpp::RObject) [with V = Rcpp::Vector<13>; TIT = const int*; Rcpp::RObject = Rcpp::RObject_Impl<Rcpp::PreserveStorage>]':
F:/biocbuild/bbs-3.18-bioc/R/library/beachmat/include/beachmat3/lin_matrix.h:561:46:   required from 'beachmat::lin_SparseArraySeed<V, TIT>::lin_SparseArraySeed(Rcpp::RObject) [with V = Rcpp::Vector<13>; TIT = const int*; Rcpp::RObject = Rcpp::RObject_Impl<Rcpp::PreserveStorage>]'
F:/biocbuild/bbs-3.18-bioc/R/library/beachmat/include/beachmat3/read_lin_block.h:36:39:   required from 'std::unique_ptr<M> beachmat::read_lin_sparse_block_raw(Rcpp::RObject) [with M = lin_matrix; Rcpp::RObject = Rcpp::RObject_Impl<Rcpp::PreserveStorage>]'
F:/biocbuild/bbs-3.18-bioc/R/library/beachmat/include/beachmat3/read_lin_block.h:65:57:   required from here
F:/biocbuild/bbs-3.18-bioc/R/library/beachmat/include/beachmat3/Csparse_reader.h:535:17: warning: comparison of integer expressions of different signedness: 'const size_t' {aka 'const long long unsigned int'} and 'R_xlen_t' {aka 'long long int'} [-Wsign-compare]
  535 |         if (nnz != x.size()) {
      |             ~~~~^~~~~~~~~~~
F:/biocbuild/bbs-3.18-bioc/R/library/beachmat/include/beachmat3/Csparse_reader.h:551:45: warning: comparison of integer expressions of different signedness: 'int' and 'const size_t' {aka 'const long long unsigned int'} [-Wsign-compare]
  551 |                     if (lastR <= 0 || lastR > NR || lastC <= 0 || lastC > NC) {
      |                                       ~~~~~~^~~~
F:/biocbuild/bbs-3.18-bioc/R/library/beachmat/include/beachmat3/Csparse_reader.h:551:73: warning: comparison of integer expressions of different signedness: 'int' and 'const size_t' {aka 'const long long unsigned int'} [-Wsign-compare]
  551 |                     if (lastR <= 0 || lastR > NR || lastC <= 0 || lastC > NC) {
      |                                                                   ~~~~~~^~~~
F:/biocbuild/bbs-3.18-bioc/R/library/beachmat/include/beachmat3/Csparse_reader.h:593:35: warning: comparison of integer expressions of different signedness: 'int' and 'const size_t' {aka 'const long long unsigned int'} [-Wsign-compare]
  593 |                 for (int v = 0; v < nnz; ++v, ++rowIt, ++colIt, ++xIt) {
      |                                 ~~^~~~~
F:/biocbuild/bbs-3.18-bioc/R/library/beachmat/include/beachmat3/Csparse_reader.h: In instantiation of 'beachmat::SparseArraySeed_reader<V, TIT>::SparseArraySeed_reader(Rcpp::RObject) [with V = Rcpp::Vector<14, Rcpp::PreserveStorage>; TIT = const double*; Rcpp::RObject = Rcpp::RObject_Impl<Rcpp::PreserveStorage>]':
F:/biocbuild/bbs-3.18-bioc/R/library/beachmat/include/beachmat3/lin_matrix.h:561:46:   required from 'beachmat::lin_SparseArraySeed<V, TIT>::lin_SparseArraySeed(Rcpp::RObject) [with V = Rcpp::Vector<14, Rcpp::PreserveStorage>; TIT = const double*; Rcpp::RObject = Rcpp::RObject_Impl<Rcpp::PreserveStorage>]'
F:/biocbuild/bbs-3.18-bioc/R/library/beachmat/include/beachmat3/read_lin_block.h:38:39:   required from 'std::unique_ptr<M> beachmat::read_lin_sparse_block_raw(Rcpp::RObject) [with M = lin_matrix; Rcpp::RObject = Rcpp::RObject_Impl<Rcpp::PreserveStorage>]'
F:/biocbuild/bbs-3.18-bioc/R/library/beachmat/include/beachmat3/read_lin_block.h:65:57:   required from here
F:/biocbuild/bbs-3.18-bioc/R/library/beachmat/include/beachmat3/Csparse_reader.h:535:17: warning: comparison of integer expressions of different signedness: 'const size_t' {aka 'const long long unsigned int'} and 'R_xlen_t' {aka 'long long int'} [-Wsign-compare]
  535 |         if (nnz != x.size()) {
      |             ~~~~^~~~~~~~~~~
F:/biocbuild/bbs-3.18-bioc/R/library/beachmat/include/beachmat3/Csparse_reader.h:551:45: warning: comparison of integer expressions of different signedness: 'int' and 'const size_t' {aka 'const long long unsigned int'} [-Wsign-compare]
  551 |                     if (lastR <= 0 || lastR > NR || lastC <= 0 || lastC > NC) {
      |                                       ~~~~~~^~~~
F:/biocbuild/bbs-3.18-bioc/R/library/beachmat/include/beachmat3/Csparse_reader.h:551:73: warning: comparison of integer expressions of different signedness: 'int' and 'const size_t' {aka 'const long long unsigned int'} [-Wsign-compare]
  551 |                     if (lastR <= 0 || lastR > NR || lastC <= 0 || lastC > NC) {
      |                                                                   ~~~~~~^~~~
F:/biocbuild/bbs-3.18-bioc/R/library/beachmat/include/beachmat3/Csparse_reader.h:593:35: warning: comparison of integer expressions of different signedness: 'int' and 'const size_t' {aka 'const long long unsigned int'} [-Wsign-compare]
  593 |                 for (int v = 0; v < nnz; ++v, ++rowIt, ++colIt, ++xIt) {
      |                                 ~~^~~~~
F:/biocbuild/bbs-3.18-bioc/R/library/beachmat/include/beachmat3/Csparse_reader.h: In instantiation of 'beachmat::SparseArraySeed_reader<V, TIT>::SparseArraySeed_reader(Rcpp::RObject) [with V = Rcpp::Vector<10, Rcpp::PreserveStorage>; TIT = const int*; Rcpp::RObject = Rcpp::RObject_Impl<Rcpp::PreserveStorage>]':
F:/biocbuild/bbs-3.18-bioc/R/library/beachmat/include/beachmat3/lin_matrix.h:561:46:   required from 'beachmat::lin_SparseArraySeed<V, TIT>::lin_SparseArraySeed(Rcpp::RObject) [with V = Rcpp::Vector<10, Rcpp::PreserveStorage>; TIT = const int*; Rcpp::RObject = Rcpp::RObject_Impl<Rcpp::PreserveStorage>]'
F:/biocbuild/bbs-3.18-bioc/R/library/beachmat/include/beachmat3/read_lin_block.h:40:39:   required from 'std::unique_ptr<M> beachmat::read_lin_sparse_block_raw(Rcpp::RObject) [with M = lin_matrix; Rcpp::RObject = Rcpp::RObject_Impl<Rcpp::PreserveStorage>]'
F:/biocbuild/bbs-3.18-bioc/R/library/beachmat/include/beachmat3/read_lin_block.h:65:57:   required from here
F:/biocbuild/bbs-3.18-bioc/R/library/beachmat/include/beachmat3/Csparse_reader.h:535:17: warning: comparison of integer expressions of different signedness: 'const size_t' {aka 'const long long unsigned int'} and 'R_xlen_t' {aka 'long long int'} [-Wsign-compare]
  535 |         if (nnz != x.size()) {
      |             ~~~~^~~~~~~~~~~
F:/biocbuild/bbs-3.18-bioc/R/library/beachmat/include/beachmat3/Csparse_reader.h:551:45: warning: comparison of integer expressions of different signedness: 'int' and 'const size_t' {aka 'const long long unsigned int'} [-Wsign-compare]
  551 |                     if (lastR <= 0 || lastR > NR || lastC <= 0 || lastC > NC) {
      |                                       ~~~~~~^~~~
F:/biocbuild/bbs-3.18-bioc/R/library/beachmat/include/beachmat3/Csparse_reader.h:551:73: warning: comparison of integer expressions of different signedness: 'int' and 'const size_t' {aka 'const long long unsigned int'} [-Wsign-compare]
  551 |                     if (lastR <= 0 || lastR > NR || lastC <= 0 || lastC > NC) {
      |                                                                   ~~~~~~^~~~
F:/biocbuild/bbs-3.18-bioc/R/library/beachmat/include/beachmat3/Csparse_reader.h:593:35: warning: comparison of integer expressions of different signedness: 'int' and 'const size_t' {aka 'const long long unsigned int'} [-Wsign-compare]
  593 |                 for (int v = 0; v < nnz; ++v, ++rowIt, ++colIt, ++xIt) {
      |                                 ~~^~~~~
F:/biocbuild/bbs-3.18-bioc/R/library/beachmat/include/beachmat3/Csparse_reader.h: In instantiation of 'beachmat::sparse_index<OUT, I> beachmat::Csparse_core<TIT, I, P>::get_row(size_t, ALT, I*, size_t, size_t) [with OUT = const int*; ALT = int*; TIT = const double*; I = int; P = long long unsigned int; size_t = long long unsigned int]':
F:/biocbuild/bbs-3.18-bioc/R/library/beachmat/include/beachmat3/Csparse_reader.h:650:42:   required from 'beachmat::sparse_index<OUT, int> beachmat::SparseArraySeed_reader<V, TIT>::get_row(size_t, ALT, int*, size_t, size_t) [with OUT = const int*; ALT = int*; V = Rcpp::Vector<14, Rcpp::PreserveStorage>; TIT = const double*; size_t = long long unsigned int]'
F:/biocbuild/bbs-3.18-bioc/R/library/beachmat/include/beachmat3/lin_matrix.h:596:51:   required from 'beachmat::sparse_index<const int*, int> beachmat::lin_SparseArraySeed<V, TIT>::get_row(size_t, int*, int*, size_t, size_t) [with V = Rcpp::Vector<14, Rcpp::PreserveStorage>; TIT = const double*; size_t = long long unsigned int]'
F:/biocbuild/bbs-3.18-bioc/R/library/beachmat/include/beachmat3/lin_matrix.h:595:35:   required from here
F:/biocbuild/bbs-3.18-bioc/R/library/beachmat/include/beachmat3/Csparse_reader.h:250:22: warning: comparison of integer expressions of different signedness: 'const int' and 'const long long unsigned int' [-Wsign-compare]
  250 |             if (idex != *pIt && static_cast<size_t>(i[idex]) == r) {
      |                 ~~~~~^~~~~~~
F:/biocbuild/bbs-3.18-bioc/R/library/beachmat/include/beachmat3/Csparse_reader.h: In instantiation of 'beachmat::sparse_index<OUT, I> beachmat::Csparse_core<TIT, I, P>::get_row(size_t, ALT, I*, size_t, size_t) [with OUT = const double*; ALT = double*; TIT = const double*; I = int; P = long long unsigned int; size_t = long long unsigned int]':
F:/biocbuild/bbs-3.18-bioc/R/library/beachmat/include/beachmat3/Csparse_reader.h:650:42:   required from 'beachmat::sparse_index<OUT, int> beachmat::SparseArraySeed_reader<V, TIT>::get_row(size_t, ALT, int*, size_t, size_t) [with OUT = const double*; ALT = double*; V = Rcpp::Vector<14, Rcpp::PreserveStorage>; TIT = const double*; size_t = long long unsigned int]'
F:/biocbuild/bbs-3.18-bioc/R/library/beachmat/include/beachmat3/lin_matrix.h:602:54:   required from 'beachmat::sparse_index<const double*, int> beachmat::lin_SparseArraySeed<V, TIT>::get_row(size_t, double*, int*, size_t, size_t) [with V = Rcpp::Vector<14, Rcpp::PreserveStorage>; TIT = const double*; size_t = long long unsigned int]'
F:/biocbuild/bbs-3.18-bioc/R/library/beachmat/include/beachmat3/lin_matrix.h:601:38:   required from here
F:/biocbuild/bbs-3.18-bioc/R/library/beachmat/include/beachmat3/Csparse_reader.h:250:22: warning: comparison of integer expressions of different signedness: 'const int' and 'const long long unsigned int' [-Wsign-compare]
F:/biocbuild/bbs-3.18-bioc/R/library/beachmat/include/beachmat3/Csparse_reader.h: In instantiation of 'beachmat::sparse_index<OUT, I> beachmat::Csparse_core<TIT, I, P>::get_row(size_t, ALT, I*, size_t, size_t) [with OUT = const int*; ALT = int*; TIT = const int*; I = int; P = long long unsigned int; size_t = long long unsigned int]':
F:/biocbuild/bbs-3.18-bioc/R/library/beachmat/include/beachmat3/Csparse_reader.h:650:42:   required from 'beachmat::sparse_index<OUT, int> beachmat::SparseArraySeed_reader<V, TIT>::get_row(size_t, ALT, int*, size_t, size_t) [with OUT = const int*; ALT = int*; V = Rcpp::Vector<10, Rcpp::PreserveStorage>; TIT = const int*; size_t = long long unsigned int]'
F:/biocbuild/bbs-3.18-bioc/R/library/beachmat/include/beachmat3/lin_matrix.h:596:51:   required from 'beachmat::sparse_index<const int*, int> beachmat::lin_SparseArraySeed<V, TIT>::get_row(size_t, int*, int*, size_t, size_t) [with V = Rcpp::Vector<10, Rcpp::PreserveStorage>; TIT = const int*; size_t = long long unsigned int]'
F:/biocbuild/bbs-3.18-bioc/R/library/beachmat/include/beachmat3/lin_matrix.h:595:35:   required from here
F:/biocbuild/bbs-3.18-bioc/R/library/beachmat/include/beachmat3/Csparse_reader.h:250:22: warning: comparison of integer expressions of different signedness: 'const int' and 'const long long unsigned int' [-Wsign-compare]
F:/biocbuild/bbs-3.18-bioc/R/library/beachmat/include/beachmat3/Csparse_reader.h: In instantiation of 'beachmat::sparse_index<OUT, I> beachmat::Csparse_core<TIT, I, P>::get_row(size_t, ALT, I*, size_t, size_t) [with OUT = const double*; ALT = double*; TIT = const int*; I = int; P = long long unsigned int; size_t = long long unsigned int]':
F:/biocbuild/bbs-3.18-bioc/R/library/beachmat/include/beachmat3/Csparse_reader.h:650:42:   required from 'beachmat::sparse_index<OUT, int> beachmat::SparseArraySeed_reader<V, TIT>::get_row(size_t, ALT, int*, size_t, size_t) [with OUT = const double*; ALT = double*; V = Rcpp::Vector<10, Rcpp::PreserveStorage>; TIT = const int*; size_t = long long unsigned int]'
F:/biocbuild/bbs-3.18-bioc/R/library/beachmat/include/beachmat3/lin_matrix.h:602:54:   required from 'beachmat::sparse_index<const double*, int> beachmat::lin_SparseArraySeed<V, TIT>::get_row(size_t, double*, int*, size_t, size_t) [with V = Rcpp::Vector<10, Rcpp::PreserveStorage>; TIT = const int*; size_t = long long unsigned int]'
F:/biocbuild/bbs-3.18-bioc/R/library/beachmat/include/beachmat3/lin_matrix.h:601:38:   required from here
F:/biocbuild/bbs-3.18-bioc/R/library/beachmat/include/beachmat3/Csparse_reader.h:250:22: warning: comparison of integer expressions of different signedness: 'const int' and 'const long long unsigned int' [-Wsign-compare]
g++  -std=gnu++11 -I"F:/biocbuild/bbs-3.18-bioc/R/include" -DNDEBUG  -I'F:/biocbuild/bbs-3.18-bioc/R/library/Rcpp/include' -I'F:/biocbuild/bbs-3.18-bioc/R/library/beachmat/include' -I'F:/biocbuild/bbs-3.18-bioc/R/library/Rhdf5lib/include' -I'F:/biocbuild/bbs-3.18-bioc/R/library/BH/include' -I'F:/biocbuild/bbs-3.18-bioc/R/library/dqrng/include' -I'F:/biocbuild/bbs-3.18-bioc/R/library/scuttle/include'   -I"C:/rtools43/x86_64-w64-mingw32.static.posix/include"     -O2 -Wall  -mfpmath=sse -msse2 -mstackrealign  -c get_cell_barcodes.cpp -o get_cell_barcodes.o
g++  -std=gnu++11 -I"F:/biocbuild/bbs-3.18-bioc/R/include" -DNDEBUG  -I'F:/biocbuild/bbs-3.18-bioc/R/library/Rcpp/include' -I'F:/biocbuild/bbs-3.18-bioc/R/library/beachmat/include' -I'F:/biocbuild/bbs-3.18-bioc/R/library/Rhdf5lib/include' -I'F:/biocbuild/bbs-3.18-bioc/R/library/BH/include' -I'F:/biocbuild/bbs-3.18-bioc/R/library/dqrng/include' -I'F:/biocbuild/bbs-3.18-bioc/R/library/scuttle/include'   -I"C:/rtools43/x86_64-w64-mingw32.static.posix/include"     -O2 -Wall  -mfpmath=sse -msse2 -mstackrealign  -c group_cells.cpp -o group_cells.o
group_cells.cpp: In function 'Rcpp::List group_cells(Rcpp::StringVector, Rcpp::IntegerVector)':
group_cells.cpp:10:10: warning: comparison of integer expressions of different signedness: 'const size_t' {aka 'const long long unsigned int'} and 'R_xlen_t' {aka 'long long int'} [-Wsign-compare]
   10 |     if (N!=gems.size()) {
      |         ~^~~~~~~~~~~~~
g++  -std=gnu++11 -I"F:/biocbuild/bbs-3.18-bioc/R/include" -DNDEBUG  -I'F:/biocbuild/bbs-3.18-bioc/R/library/Rcpp/include' -I'F:/biocbuild/bbs-3.18-bioc/R/library/beachmat/include' -I'F:/biocbuild/bbs-3.18-bioc/R/library/Rhdf5lib/include' -I'F:/biocbuild/bbs-3.18-bioc/R/library/BH/include' -I'F:/biocbuild/bbs-3.18-bioc/R/library/dqrng/include' -I'F:/biocbuild/bbs-3.18-bioc/R/library/scuttle/include'   -I"C:/rtools43/x86_64-w64-mingw32.static.posix/include"     -O2 -Wall  -mfpmath=sse -msse2 -mstackrealign  -c hashed_deltas.cpp -o hashed_deltas.o
In file included from F:/biocbuild/bbs-3.18-bioc/R/library/beachmat/include/beachmat3/lin_matrix.h:12,
                 from F:/biocbuild/bbs-3.18-bioc/R/library/beachmat/include/beachmat3/read_lin_block.h:11,
                 from F:/biocbuild/bbs-3.18-bioc/R/library/beachmat/include/beachmat3/beachmat.h:24,
                 from hashed_deltas.cpp:2:
F:/biocbuild/bbs-3.18-bioc/R/library/beachmat/include/beachmat3/Csparse_reader.h: In instantiation of 'beachmat::SparseArraySeed_reader<V, TIT>::SparseArraySeed_reader(Rcpp::RObject) [with V = Rcpp::Vector<13>; TIT = const int*; Rcpp::RObject = Rcpp::RObject_Impl<Rcpp::PreserveStorage>]':
F:/biocbuild/bbs-3.18-bioc/R/library/beachmat/include/beachmat3/lin_matrix.h:561:46:   required from 'beachmat::lin_SparseArraySeed<V, TIT>::lin_SparseArraySeed(Rcpp::RObject) [with V = Rcpp::Vector<13>; TIT = const int*; Rcpp::RObject = Rcpp::RObject_Impl<Rcpp::PreserveStorage>]'
F:/biocbuild/bbs-3.18-bioc/R/library/beachmat/include/beachmat3/read_lin_block.h:36:39:   required from 'std::unique_ptr<M> beachmat::read_lin_sparse_block_raw(Rcpp::RObject) [with M = lin_matrix; Rcpp::RObject = Rcpp::RObject_Impl<Rcpp::PreserveStorage>]'
F:/biocbuild/bbs-3.18-bioc/R/library/beachmat/include/beachmat3/read_lin_block.h:65:57:   required from here
F:/biocbuild/bbs-3.18-bioc/R/library/beachmat/include/beachmat3/Csparse_reader.h:535:17: warning: comparison of integer expressions of different signedness: 'const size_t' {aka 'const long long unsigned int'} and 'R_xlen_t' {aka 'long long int'} [-Wsign-compare]
  535 |         if (nnz != x.size()) {
      |             ~~~~^~~~~~~~~~~
F:/biocbuild/bbs-3.18-bioc/R/library/beachmat/include/beachmat3/Csparse_reader.h:551:45: warning: comparison of integer expressions of different signedness: 'int' and 'const size_t' {aka 'const long long unsigned int'} [-Wsign-compare]
  551 |                     if (lastR <= 0 || lastR > NR || lastC <= 0 || lastC > NC) {
      |                                       ~~~~~~^~~~
F:/biocbuild/bbs-3.18-bioc/R/library/beachmat/include/beachmat3/Csparse_reader.h:551:73: warning: comparison of integer expressions of different signedness: 'int' and 'const size_t' {aka 'const long long unsigned int'} [-Wsign-compare]
  551 |                     if (lastR <= 0 || lastR > NR || lastC <= 0 || lastC > NC) {
      |                                                                   ~~~~~~^~~~
F:/biocbuild/bbs-3.18-bioc/R/library/beachmat/include/beachmat3/Csparse_reader.h:593:35: warning: comparison of integer expressions of different signedness: 'int' and 'const size_t' {aka 'const long long unsigned int'} [-Wsign-compare]
  593 |                 for (int v = 0; v < nnz; ++v, ++rowIt, ++colIt, ++xIt) {
      |                                 ~~^~~~~
F:/biocbuild/bbs-3.18-bioc/R/library/beachmat/include/beachmat3/Csparse_reader.h: In instantiation of 'beachmat::SparseArraySeed_reader<V, TIT>::SparseArraySeed_reader(Rcpp::RObject) [with V = Rcpp::Vector<14, Rcpp::PreserveStorage>; TIT = const double*; Rcpp::RObject = Rcpp::RObject_Impl<Rcpp::PreserveStorage>]':
F:/biocbuild/bbs-3.18-bioc/R/library/beachmat/include/beachmat3/lin_matrix.h:561:46:   required from 'beachmat::lin_SparseArraySeed<V, TIT>::lin_SparseArraySeed(Rcpp::RObject) [with V = Rcpp::Vector<14, Rcpp::PreserveStorage>; TIT = const double*; Rcpp::RObject = Rcpp::RObject_Impl<Rcpp::PreserveStorage>]'
F:/biocbuild/bbs-3.18-bioc/R/library/beachmat/include/beachmat3/read_lin_block.h:38:39:   required from 'std::unique_ptr<M> beachmat::read_lin_sparse_block_raw(Rcpp::RObject) [with M = lin_matrix; Rcpp::RObject = Rcpp::RObject_Impl<Rcpp::PreserveStorage>]'
F:/biocbuild/bbs-3.18-bioc/R/library/beachmat/include/beachmat3/read_lin_block.h:65:57:   required from here
F:/biocbuild/bbs-3.18-bioc/R/library/beachmat/include/beachmat3/Csparse_reader.h:535:17: warning: comparison of integer expressions of different signedness: 'const size_t' {aka 'const long long unsigned int'} and 'R_xlen_t' {aka 'long long int'} [-Wsign-compare]
  535 |         if (nnz != x.size()) {
      |             ~~~~^~~~~~~~~~~
F:/biocbuild/bbs-3.18-bioc/R/library/beachmat/include/beachmat3/Csparse_reader.h:551:45: warning: comparison of integer expressions of different signedness: 'int' and 'const size_t' {aka 'const long long unsigned int'} [-Wsign-compare]
  551 |                     if (lastR <= 0 || lastR > NR || lastC <= 0 || lastC > NC) {
      |                                       ~~~~~~^~~~
F:/biocbuild/bbs-3.18-bioc/R/library/beachmat/include/beachmat3/Csparse_reader.h:551:73: warning: comparison of integer expressions of different signedness: 'int' and 'const size_t' {aka 'const long long unsigned int'} [-Wsign-compare]
  551 |                     if (lastR <= 0 || lastR > NR || lastC <= 0 || lastC > NC) {
      |                                                                   ~~~~~~^~~~
F:/biocbuild/bbs-3.18-bioc/R/library/beachmat/include/beachmat3/Csparse_reader.h:593:35: warning: comparison of integer expressions of different signedness: 'int' and 'const size_t' {aka 'const long long unsigned int'} [-Wsign-compare]
  593 |                 for (int v = 0; v < nnz; ++v, ++rowIt, ++colIt, ++xIt) {
      |                                 ~~^~~~~
F:/biocbuild/bbs-3.18-bioc/R/library/beachmat/include/beachmat3/Csparse_reader.h: In instantiation of 'beachmat::SparseArraySeed_reader<V, TIT>::SparseArraySeed_reader(Rcpp::RObject) [with V = Rcpp::Vector<10, Rcpp::PreserveStorage>; TIT = const int*; Rcpp::RObject = Rcpp::RObject_Impl<Rcpp::PreserveStorage>]':
F:/biocbuild/bbs-3.18-bioc/R/library/beachmat/include/beachmat3/lin_matrix.h:561:46:   required from 'beachmat::lin_SparseArraySeed<V, TIT>::lin_SparseArraySeed(Rcpp::RObject) [with V = Rcpp::Vector<10, Rcpp::PreserveStorage>; TIT = const int*; Rcpp::RObject = Rcpp::RObject_Impl<Rcpp::PreserveStorage>]'
F:/biocbuild/bbs-3.18-bioc/R/library/beachmat/include/beachmat3/read_lin_block.h:40:39:   required from 'std::unique_ptr<M> beachmat::read_lin_sparse_block_raw(Rcpp::RObject) [with M = lin_matrix; Rcpp::RObject = Rcpp::RObject_Impl<Rcpp::PreserveStorage>]'
F:/biocbuild/bbs-3.18-bioc/R/library/beachmat/include/beachmat3/read_lin_block.h:65:57:   required from here
F:/biocbuild/bbs-3.18-bioc/R/library/beachmat/include/beachmat3/Csparse_reader.h:535:17: warning: comparison of integer expressions of different signedness: 'const size_t' {aka 'const long long unsigned int'} and 'R_xlen_t' {aka 'long long int'} [-Wsign-compare]
  535 |         if (nnz != x.size()) {
      |             ~~~~^~~~~~~~~~~
F:/biocbuild/bbs-3.18-bioc/R/library/beachmat/include/beachmat3/Csparse_reader.h:551:45: warning: comparison of integer expressions of different signedness: 'int' and 'const size_t' {aka 'const long long unsigned int'} [-Wsign-compare]
  551 |                     if (lastR <= 0 || lastR > NR || lastC <= 0 || lastC > NC) {
      |                                       ~~~~~~^~~~
F:/biocbuild/bbs-3.18-bioc/R/library/beachmat/include/beachmat3/Csparse_reader.h:551:73: warning: comparison of integer expressions of different signedness: 'int' and 'const size_t' {aka 'const long long unsigned int'} [-Wsign-compare]
  551 |                     if (lastR <= 0 || lastR > NR || lastC <= 0 || lastC > NC) {
      |                                                                   ~~~~~~^~~~
F:/biocbuild/bbs-3.18-bioc/R/library/beachmat/include/beachmat3/Csparse_reader.h:593:35: warning: comparison of integer expressions of different signedness: 'int' and 'const size_t' {aka 'const long long unsigned int'} [-Wsign-compare]
  593 |                 for (int v = 0; v < nnz; ++v, ++rowIt, ++colIt, ++xIt) {
      |                                 ~~^~~~~
F:/biocbuild/bbs-3.18-bioc/R/library/beachmat/include/beachmat3/Csparse_reader.h: In instantiation of 'beachmat::sparse_index<OUT, I> beachmat::Csparse_core<TIT, I, P>::get_row(size_t, ALT, I*, size_t, size_t) [with OUT = const int*; ALT = int*; TIT = const double*; I = int; P = long long unsigned int; size_t = long long unsigned int]':
F:/biocbuild/bbs-3.18-bioc/R/library/beachmat/include/beachmat3/Csparse_reader.h:650:42:   required from 'beachmat::sparse_index<OUT, int> beachmat::SparseArraySeed_reader<V, TIT>::get_row(size_t, ALT, int*, size_t, size_t) [with OUT = const int*; ALT = int*; V = Rcpp::Vector<14, Rcpp::PreserveStorage>; TIT = const double*; size_t = long long unsigned int]'
F:/biocbuild/bbs-3.18-bioc/R/library/beachmat/include/beachmat3/lin_matrix.h:596:51:   required from 'beachmat::sparse_index<const int*, int> beachmat::lin_SparseArraySeed<V, TIT>::get_row(size_t, int*, int*, size_t, size_t) [with V = Rcpp::Vector<14, Rcpp::PreserveStorage>; TIT = const double*; size_t = long long unsigned int]'
F:/biocbuild/bbs-3.18-bioc/R/library/beachmat/include/beachmat3/lin_matrix.h:595:35:   required from here
F:/biocbuild/bbs-3.18-bioc/R/library/beachmat/include/beachmat3/Csparse_reader.h:250:22: warning: comparison of integer expressions of different signedness: 'const int' and 'const long long unsigned int' [-Wsign-compare]
  250 |             if (idex != *pIt && static_cast<size_t>(i[idex]) == r) {
      |                 ~~~~~^~~~~~~
F:/biocbuild/bbs-3.18-bioc/R/library/beachmat/include/beachmat3/Csparse_reader.h: In instantiation of 'beachmat::sparse_index<OUT, I> beachmat::Csparse_core<TIT, I, P>::get_row(size_t, ALT, I*, size_t, size_t) [with OUT = const double*; ALT = double*; TIT = const double*; I = int; P = long long unsigned int; size_t = long long unsigned int]':
F:/biocbuild/bbs-3.18-bioc/R/library/beachmat/include/beachmat3/Csparse_reader.h:650:42:   required from 'beachmat::sparse_index<OUT, int> beachmat::SparseArraySeed_reader<V, TIT>::get_row(size_t, ALT, int*, size_t, size_t) [with OUT = const double*; ALT = double*; V = Rcpp::Vector<14, Rcpp::PreserveStorage>; TIT = const double*; size_t = long long unsigned int]'
F:/biocbuild/bbs-3.18-bioc/R/library/beachmat/include/beachmat3/lin_matrix.h:602:54:   required from 'beachmat::sparse_index<const double*, int> beachmat::lin_SparseArraySeed<V, TIT>::get_row(size_t, double*, int*, size_t, size_t) [with V = Rcpp::Vector<14, Rcpp::PreserveStorage>; TIT = const double*; size_t = long long unsigned int]'
F:/biocbuild/bbs-3.18-bioc/R/library/beachmat/include/beachmat3/lin_matrix.h:601:38:   required from here
F:/biocbuild/bbs-3.18-bioc/R/library/beachmat/include/beachmat3/Csparse_reader.h:250:22: warning: comparison of integer expressions of different signedness: 'const int' and 'const long long unsigned int' [-Wsign-compare]
F:/biocbuild/bbs-3.18-bioc/R/library/beachmat/include/beachmat3/Csparse_reader.h: In instantiation of 'beachmat::sparse_index<OUT, I> beachmat::Csparse_core<TIT, I, P>::get_row(size_t, ALT, I*, size_t, size_t) [with OUT = const int*; ALT = int*; TIT = const int*; I = int; P = long long unsigned int; size_t = long long unsigned int]':
F:/biocbuild/bbs-3.18-bioc/R/library/beachmat/include/beachmat3/Csparse_reader.h:650:42:   required from 'beachmat::sparse_index<OUT, int> beachmat::SparseArraySeed_reader<V, TIT>::get_row(size_t, ALT, int*, size_t, size_t) [with OUT = const int*; ALT = int*; V = Rcpp::Vector<10, Rcpp::PreserveStorage>; TIT = const int*; size_t = long long unsigned int]'
F:/biocbuild/bbs-3.18-bioc/R/library/beachmat/include/beachmat3/lin_matrix.h:596:51:   required from 'beachmat::sparse_index<const int*, int> beachmat::lin_SparseArraySeed<V, TIT>::get_row(size_t, int*, int*, size_t, size_t) [with V = Rcpp::Vector<10, Rcpp::PreserveStorage>; TIT = const int*; size_t = long long unsigned int]'
F:/biocbuild/bbs-3.18-bioc/R/library/beachmat/include/beachmat3/lin_matrix.h:595:35:   required from here
F:/biocbuild/bbs-3.18-bioc/R/library/beachmat/include/beachmat3/Csparse_reader.h:250:22: warning: comparison of integer expressions of different signedness: 'const int' and 'const long long unsigned int' [-Wsign-compare]
F:/biocbuild/bbs-3.18-bioc/R/library/beachmat/include/beachmat3/Csparse_reader.h: In instantiation of 'beachmat::sparse_index<OUT, I> beachmat::Csparse_core<TIT, I, P>::get_row(size_t, ALT, I*, size_t, size_t) [with OUT = const double*; ALT = double*; TIT = const int*; I = int; P = long long unsigned int; size_t = long long unsigned int]':
F:/biocbuild/bbs-3.18-bioc/R/library/beachmat/include/beachmat3/Csparse_reader.h:650:42:   required from 'beachmat::sparse_index<OUT, int> beachmat::SparseArraySeed_reader<V, TIT>::get_row(size_t, ALT, int*, size_t, size_t) [with OUT = const double*; ALT = double*; V = Rcpp::Vector<10, Rcpp::PreserveStorage>; TIT = const int*; size_t = long long unsigned int]'
F:/biocbuild/bbs-3.18-bioc/R/library/beachmat/include/beachmat3/lin_matrix.h:602:54:   required from 'beachmat::sparse_index<const double*, int> beachmat::lin_SparseArraySeed<V, TIT>::get_row(size_t, double*, int*, size_t, size_t) [with V = Rcpp::Vector<10, Rcpp::PreserveStorage>; TIT = const int*; size_t = long long unsigned int]'
F:/biocbuild/bbs-3.18-bioc/R/library/beachmat/include/beachmat3/lin_matrix.h:601:38:   required from here
F:/biocbuild/bbs-3.18-bioc/R/library/beachmat/include/beachmat3/Csparse_reader.h:250:22: warning: comparison of integer expressions of different signedness: 'const int' and 'const long long unsigned int' [-Wsign-compare]
g++  -std=gnu++11 -I"F:/biocbuild/bbs-3.18-bioc/R/include" -DNDEBUG  -I'F:/biocbuild/bbs-3.18-bioc/R/library/Rcpp/include' -I'F:/biocbuild/bbs-3.18-bioc/R/library/beachmat/include' -I'F:/biocbuild/bbs-3.18-bioc/R/library/Rhdf5lib/include' -I'F:/biocbuild/bbs-3.18-bioc/R/library/BH/include' -I'F:/biocbuild/bbs-3.18-bioc/R/library/dqrng/include' -I'F:/biocbuild/bbs-3.18-bioc/R/library/scuttle/include'   -I"C:/rtools43/x86_64-w64-mingw32.static.posix/include"     -O2 -Wall  -mfpmath=sse -msse2 -mstackrealign  -c montecarlo_pval.cpp -o montecarlo_pval.o
In file included from F:/biocbuild/bbs-3.18-bioc/R/library/BH/include/boost/mpl/aux_/na_assert.hpp:23,
                 from F:/biocbuild/bbs-3.18-bioc/R/library/BH/include/boost/mpl/arg.hpp:25,
                 from F:/biocbuild/bbs-3.18-bioc/R/library/BH/include/boost/mpl/placeholders.hpp:24,
                 from F:/biocbuild/bbs-3.18-bioc/R/library/BH/include/boost/iterator/iterator_categories.hpp:16,
                 from F:/biocbuild/bbs-3.18-bioc/R/library/BH/include/boost/iterator/iterator_concepts.hpp:10,
                 from F:/biocbuild/bbs-3.18-bioc/R/library/BH/include/boost/range/concepts.hpp:20,
                 from F:/biocbuild/bbs-3.18-bioc/R/library/BH/include/boost/range/size_type.hpp:20,
                 from F:/biocbuild/bbs-3.18-bioc/R/library/BH/include/boost/range/size.hpp:21,
                 from F:/biocbuild/bbs-3.18-bioc/R/library/BH/include/boost/random/hyperexponential_distribution.hpp:29,
                 from F:/biocbuild/bbs-3.18-bioc/R/library/BH/include/boost/random.hpp:70,
                 from montecarlo_pval.cpp:3:
F:/biocbuild/bbs-3.18-bioc/R/library/BH/include/boost/mpl/assert.hpp:194:21: warning: unnecessary parentheses in declaration of 'assert_arg' [-Wparentheses]
  194 | failed ************ (Pred::************
      |                     ^~~~~~~~~~~~~~~~~~~
  195 |       assert_arg( void (*)(Pred), typename assert_arg_pred<Pred>::type )
      |       ~~~~~~~~~~~~~~~~~~~~~~~~~~~~~~~~~~~~~~~~~~~~~~~~~~~~~~~~~~~~~~~~~~
  196 |     );
      |     ~                
F:/biocbuild/bbs-3.18-bioc/R/library/BH/include/boost/mpl/assert.hpp:194:21: note: remove parentheses
  194 | failed ************ (Pred::************
      |                     ^~~~~~~~~~~~~~~~~~~
      |                     -
  195 |       assert_arg( void (*)(Pred), typename assert_arg_pred<Pred>::type )
      |       ~~~~~~~~~~~~~~~~~~~~~~~~~~~~~~~~~~~~~~~~~~~~~~~~~~~~~~~~~~~~~~~~~~
  196 |     );
      |     ~                
      |     -
F:/biocbuild/bbs-3.18-bioc/R/library/BH/include/boost/mpl/assert.hpp:199:21: warning: unnecessary parentheses in declaration of 'assert_not_arg' [-Wparentheses]
  199 | failed ************ (boost::mpl::not_<Pred>::************
      |                     ^~~~~~~~~~~~~~~~~~~~~~~~~~~~~~~~~~~~~
  200 |       assert_not_arg( void (*)(Pred), typename assert_arg_pred_not<Pred>::type )
      |       ~~~~~~~~~~~~~~~~~~~~~~~~~~~~~~~~~~~~~~~~~~~~~~~~~~~~~~~~~~~~~~~~~~~~~~~~~~
  201 |     );
      |     ~                
F:/biocbuild/bbs-3.18-bioc/R/library/BH/include/boost/mpl/assert.hpp:199:21: note: remove parentheses
  199 | failed ************ (boost::mpl::not_<Pred>::************
      |                     ^~~~~~~~~~~~~~~~~~~~~~~~~~~~~~~~~~~~~
      |                     -
  200 |       assert_not_arg( void (*)(Pred), typename assert_arg_pred_not<Pred>::type )
      |       ~~~~~~~~~~~~~~~~~~~~~~~~~~~~~~~~~~~~~~~~~~~~~~~~~~~~~~~~~~~~~~~~~~~~~~~~~~
  201 |     );
      |     ~                
      |     -
montecarlo_pval.cpp: In function 'Rcpp::IntegerVector montecarlo_pval(Rcpp::IntegerVector, Rcpp::IntegerVector, Rcpp::NumericVector, Rcpp::NumericVector, int, double, Rcpp::List, Rcpp::IntegerVector)':
montecarlo_pval.cpp:99:23: warning: comparison of integer expressions of different signedness: 'size_t' {aka 'long long unsigned int'} and 'const int' [-Wsign-compare]
   99 |             if (higher<curlen) {
      |                 ~~~~~~^~~~~~~
g++  -std=gnu++11 -I"F:/biocbuild/bbs-3.18-bioc/R/include" -DNDEBUG  -I'F:/biocbuild/bbs-3.18-bioc/R/library/Rcpp/include' -I'F:/biocbuild/bbs-3.18-bioc/R/library/beachmat/include' -I'F:/biocbuild/bbs-3.18-bioc/R/library/Rhdf5lib/include' -I'F:/biocbuild/bbs-3.18-bioc/R/library/BH/include' -I'F:/biocbuild/bbs-3.18-bioc/R/library/dqrng/include' -I'F:/biocbuild/bbs-3.18-bioc/R/library/scuttle/include'   -I"C:/rtools43/x86_64-w64-mingw32.static.posix/include"     -O2 -Wall  -mfpmath=sse -msse2 -mstackrealign  -c rand_custom.cpp -o rand_custom.o
rand_custom.cpp: In function 'void check_pcg_vectors(Rcpp::List, Rcpp::IntegerVector, size_t, const char*)':
rand_custom.cpp:8:21: warning: comparison of integer expressions of different signedness: 'R_xlen_t' {aka 'long long int'} and 'size_t' {aka 'long long unsigned int'} [-Wsign-compare]
    8 |     if (seeds.size()!=N) {
      |         ~~~~~~~~~~~~^~~
rand_custom.cpp:14:23: warning: comparison of integer expressions of different signedness: 'R_xlen_t' {aka 'long long int'} and 'size_t' {aka 'long long unsigned int'} [-Wsign-compare]
   14 |     if (streams.size()!=N) {
      |         ~~~~~~~~~~~~~~^~~
g++  -std=gnu++11 -I"F:/biocbuild/bbs-3.18-bioc/R/include" -DNDEBUG  -I'F:/biocbuild/bbs-3.18-bioc/R/library/Rcpp/include' -I'F:/biocbuild/bbs-3.18-bioc/R/library/beachmat/include' -I'F:/biocbuild/bbs-3.18-bioc/R/library/Rhdf5lib/include' -I'F:/biocbuild/bbs-3.18-bioc/R/library/BH/include' -I'F:/biocbuild/bbs-3.18-bioc/R/library/dqrng/include' -I'F:/biocbuild/bbs-3.18-bioc/R/library/scuttle/include'   -I"C:/rtools43/x86_64-w64-mingw32.static.posix/include"     -O2 -Wall  -mfpmath=sse -msse2 -mstackrealign  -c utils.cpp -o utils.o
g++ -shared -s -static-libgcc -o DropletUtils.dll tmp.def RcppExports.o downsample_run.o encode_sequences.o find_chimeric.o find_swapped.o get_cell_barcodes.o group_cells.o hashed_deltas.o montecarlo_pval.o rand_custom.o utils.o -LF:/biocbuild/bbs-3.18-bioc/R/library/Rhdf5lib/lib/x64-ucrt -lhdf5_cpp -lhdf5 -lcurl -lssh2 -lssl -lcrypto -lwldap32 -lws2_32 -lcrypt32 -lsz -laec -lz -lpsapi -LC:/rtools43/x86_64-w64-mingw32.static.posix/lib/x64 -LC:/rtools43/x86_64-w64-mingw32.static.posix/lib -LF:/biocbuild/bbs-3.18-bioc/R/bin/x64 -lR
installing to F:/biocbuild/bbs-3.18-bioc/R/library/00LOCK-DropletUtils/00new/DropletUtils/libs/x64
** R
** inst
** byte-compile and prepare package for lazy loading
** help
*** installing help indices
** building package indices
** installing vignettes
** testing if installed package can be loaded from temporary location
** testing if installed package can be loaded from final location
** testing if installed package keeps a record of temporary installation path
* DONE (DropletUtils)