Name | Last modified | Size | Description | |
---|---|---|---|---|
Parent Directory | - | |||
buildbin-out.txt | 17-Jul-2024 06:39 | 3.1K | ||
buildbin-summary.dcf | 17-Jul-2024 06:39 | 591 | ||
buildsrc-out.txt | 17-Jul-2024 06:39 | 1.0K | ||
buildsrc-summary.dcf | 17-Jul-2024 06:39 | 504 | ||
checksrc-out.txt | 17-Jul-2024 06:39 | 4.7K | ||
checksrc-summary.dcf | 17-Jul-2024 06:39 | 504 | ||
install-out.txt | 17-Jul-2024 06:39 | 2.9K | ||
install-summary.dcf | 17-Jul-2024 06:39 | 294 | ||