Back to Multiple platform build/check report for BioC 3.19:   simplified   long
ABC[D]EFGHIJKLMNOPQRSTUVWXYZ

This page was generated on 2024-07-12 17:38 -0400 (Fri, 12 Jul 2024).

HostnameOSArch (*)R versionInstalled pkgs
nebbiolo1Linux (Ubuntu 22.04.3 LTS)x86_644.4.1 (2024-06-14) -- "Race for Your Life" 4741
palomino7Windows Server 2022 Datacenterx644.4.1 (2024-06-14 ucrt) -- "Race for Your Life" 4483
merida1macOS 12.7.4 Montereyx86_644.4.1 (2024-06-14) -- "Race for Your Life" 4512
kjohnson1macOS 13.6.6 Venturaarm644.4.1 (2024-06-14) -- "Race for Your Life" 4461
Click on any hostname to see more info about the system (e.g. compilers)      (*) as reported by 'uname -p', except on Windows and Mac OS X

Package 578/2300HostnameOS / ArchINSTALLBUILDCHECKBUILD BIN
Dino 1.10.0  (landing page)
Jared Brown
Snapshot Date: 2024-07-10 14:00 -0400 (Wed, 10 Jul 2024)
git_url: https://git.bioconductor.org/packages/Dino
git_branch: RELEASE_3_19
git_last_commit: 3a9fcfa
git_last_commit_date: 2024-04-30 11:35:46 -0400 (Tue, 30 Apr 2024)
nebbiolo1Linux (Ubuntu 22.04.3 LTS) / x86_64  OK    OK    OK  UNNEEDED, same version is already published
palomino7Windows Server 2022 Datacenter / x64  OK    OK    OK    OK  
merida1macOS 12.7.4 Monterey / x86_64  OK    OK    OK    OK  UNNEEDED, same version is already published
kjohnson1macOS 13.6.6 Ventura / arm64  OK    OK    OK    OK  UNNEEDED, same version is already published


CHECK results for Dino on nebbiolo1

To the developers/maintainers of the Dino package:
- Allow up to 24 hours (and sometimes 48 hours) for your latest push to git@git.bioconductor.org:packages/Dino.git to reflect on this report. See Troubleshooting Build Report for more information.
- Use the following Renviron settings to reproduce errors and warnings.
- If 'R CMD check' started to fail recently on the Linux builder(s) over a missing dependency, add the missing dependency to 'Suggests:' in your DESCRIPTION file. See Renviron.bioc for more information.

raw results


Summary

Package: Dino
Version: 1.10.0
Command: /home/biocbuild/bbs-3.19-bioc/R/bin/R CMD check --install=check:Dino.install-out.txt --library=/home/biocbuild/bbs-3.19-bioc/R/site-library --timings Dino_1.10.0.tar.gz
StartedAt: 2024-07-10 22:29:52 -0400 (Wed, 10 Jul 2024)
EndedAt: 2024-07-10 22:37:04 -0400 (Wed, 10 Jul 2024)
EllapsedTime: 431.9 seconds
RetCode: 0
Status:   OK  
CheckDir: Dino.Rcheck
Warnings: 0

Command output

##############################################################################
##############################################################################
###
### Running command:
###
###   /home/biocbuild/bbs-3.19-bioc/R/bin/R CMD check --install=check:Dino.install-out.txt --library=/home/biocbuild/bbs-3.19-bioc/R/site-library --timings Dino_1.10.0.tar.gz
###
##############################################################################
##############################################################################


* using log directory ‘/home/biocbuild/bbs-3.19-bioc/meat/Dino.Rcheck’
* using R version 4.4.1 (2024-06-14)
* using platform: x86_64-pc-linux-gnu
* R was compiled by
    gcc (Ubuntu 11.4.0-1ubuntu1~22.04) 11.4.0
    GNU Fortran (Ubuntu 11.4.0-1ubuntu1~22.04) 11.4.0
* running under: Ubuntu 22.04.4 LTS
* using session charset: UTF-8
* checking for file ‘Dino/DESCRIPTION’ ... OK
* checking extension type ... Package
* this is package ‘Dino’ version ‘1.10.0’
* package encoding: UTF-8
* checking package namespace information ... OK
* checking package dependencies ... OK
* checking if this is a source package ... OK
* checking if there is a namespace ... OK
* checking for hidden files and directories ... OK
* checking for portable file names ... OK
* checking for sufficient/correct file permissions ... OK
* checking whether package ‘Dino’ can be installed ... OK
* checking installed package size ... OK
* checking package directory ... OK
* checking ‘build’ directory ... OK
* checking DESCRIPTION meta-information ... OK
* checking top-level files ... OK
* checking for left-over files ... OK
* checking index information ... OK
* checking package subdirectories ... OK
* checking code files for non-ASCII characters ... OK
* checking R files for syntax errors ... OK
* checking whether the package can be loaded ... OK
* checking whether the package can be loaded with stated dependencies ... OK
* checking whether the package can be unloaded cleanly ... OK
* checking whether the namespace can be loaded with stated dependencies ... OK
* checking whether the namespace can be unloaded cleanly ... OK
* checking loading without being on the library search path ... OK
* checking dependencies in R code ... OK
* checking S3 generic/method consistency ... OK
* checking replacement functions ... OK
* checking foreign function calls ... OK
* checking R code for possible problems ... NOTE
checkCounts: no visible global function definition for ‘as’
Undefined global functions or variables:
  as
Consider adding
  importFrom("methods", "as")
to your NAMESPACE file (and ensure that your DESCRIPTION Imports field
contains 'methods').
* checking Rd files ... OK
* checking Rd metadata ... OK
* checking Rd cross-references ... OK
* checking for missing documentation entries ... OK
* checking for code/documentation mismatches ... OK
* checking Rd \usage sections ... OK
* checking Rd contents ... OK
* checking for unstated dependencies in examples ... OK
* checking contents of ‘data’ directory ... OK
* checking data for non-ASCII characters ... OK
* checking data for ASCII and uncompressed saves ... OK
* checking files in ‘vignettes’ ... OK
* checking examples ... OK
Examples with CPU (user + system) or elapsed time > 5s
                 user system elapsed
Dino           24.150  4.087  17.964
SeuratFromDino 21.957  5.360  15.574
Dino_SCE       21.991  5.153  15.590
* checking for unstated dependencies in ‘tests’ ... OK
* checking tests ...
  Running ‘testthat.R’
 OK
* checking for unstated dependencies in vignettes ... OK
* checking package vignettes ... OK
* checking re-building of vignette outputs ... OK
* checking PDF version of manual ... OK
* DONE

Status: 1 NOTE
See
  ‘/home/biocbuild/bbs-3.19-bioc/meat/Dino.Rcheck/00check.log’
for details.


Installation output

Dino.Rcheck/00install.out

##############################################################################
##############################################################################
###
### Running command:
###
###   /home/biocbuild/bbs-3.19-bioc/R/bin/R CMD INSTALL Dino
###
##############################################################################
##############################################################################


* installing to library ‘/home/biocbuild/bbs-3.19-bioc/R/site-library’
* installing *source* package ‘Dino’ ...
** using staged installation
** R
** data
** inst
** byte-compile and prepare package for lazy loading
** help
*** installing help indices
** building package indices
** installing vignettes
** testing if installed package can be loaded from temporary location
** testing if installed package can be loaded from final location
** testing if installed package keeps a record of temporary installation path
* DONE (Dino)

Tests output

Dino.Rcheck/tests/testthat.Rout


R version 4.4.1 (2024-06-14) -- "Race for Your Life"
Copyright (C) 2024 The R Foundation for Statistical Computing
Platform: x86_64-pc-linux-gnu

R is free software and comes with ABSOLUTELY NO WARRANTY.
You are welcome to redistribute it under certain conditions.
Type 'license()' or 'licence()' for distribution details.

R is a collaborative project with many contributors.
Type 'contributors()' for more information and
'citation()' on how to cite R or R packages in publications.

Type 'demo()' for some demos, 'help()' for on-line help, or
'help.start()' for an HTML browser interface to help.
Type 'q()' to quit R.

> library(testthat)
> library(Dino)
> 
> test_check("Dino")

  |                                                                            
  |                                                                      |   0%
  |                                                                            
  |===========                                                           |  16%
  |                                                                            
  |======================                                                |  32%
  |                                                                            
  |==================================                                    |  48%
  |                                                                            
  |=============================================                         |  64%
  |                                                                            
  |========================================================              |  80%
  |                                                                            
  |===================================================================   |  96%
  |                                                                            
  |======================================================================| 100%


  |                                                                            
  |                                                                      |   0%
  |                                                                            
  |===========                                                           |  16%
  |                                                                            
  |======================                                                |  32%
  |                                                                            
  |==================================                                    |  48%
  |                                                                            
  |=============================================                         |  64%
  |                                                                            
  |========================================================              |  80%
  |                                                                            
  |===================================================================   |  96%
  |                                                                            
  |======================================================================| 100%


  |                                                                            
  |                                                                      |   0%
  |                                                                            
  |===========                                                           |  16%
  |                                                                            
  |======================                                                |  32%
  |                                                                            
  |==================================                                    |  48%
  |                                                                            
  |=============================================                         |  64%
  |                                                                            
  |========================================================              |  80%
  |                                                                            
  |===================================================================   |  96%
  |                                                                            
  |======================================================================| 100%


  |                                                                            
  |                                                                      |   0%
  |                                                                            
  |===========                                                           |  16%
  |                                                                            
  |======================                                                |  32%
  |                                                                            
  |==================================                                    |  48%
  |                                                                            
  |=============================================                         |  64%
  |                                                                            
  |========================================================              |  80%
  |                                                                            
  |===================================================================   |  96%
  |                                                                            
  |======================================================================| 100%

[ FAIL 0 | WARN 1 | SKIP 0 | PASS 9 ]

[ FAIL 0 | WARN 1 | SKIP 0 | PASS 9 ]
> 
> proc.time()
   user  system elapsed 
 64.600  11.124  51.667 

Example timings

Dino.Rcheck/Dino-Ex.timings

nameusersystemelapsed
Dino24.150 4.08717.964
Dino_SCE21.991 5.15315.590
SeuratFromDino21.957 5.36015.574
multimodalDat0.0180.0070.026
pbmcSmall0.0430.0040.048
unimodalDat0.0190.0000.020