Name | Last modified | Size | Description | |
---|---|---|---|---|
Parent Directory | - | |||
buildbin-summary.dcf | 29-Jun-2024 06:41 | 602 | ||
buildbin-out.txt | 29-Jun-2024 06:41 | 6.1K | ||
checksrc-summary.dcf | 29-Jun-2024 06:41 | 505 | ||
checksrc-out.txt | 29-Jun-2024 06:41 | 5.0K | ||
buildsrc-out.txt | 29-Jun-2024 06:41 | 1.0K | ||
buildsrc-summary.dcf | 29-Jun-2024 06:41 | 511 | ||
install-summary.dcf | 29-Jun-2024 06:41 | 297 | ||
install-out.txt | 29-Jun-2024 06:41 | 5.9K | ||