Index of /checkResults/release/bioc-LATEST/DifferentialRegulation/raw-results/nebbiolo1

[ICO]NameLast modifiedSizeDescription

[DIR]Parent Directory  -  
[TXT]buildsrc-out.txt15-Jun-2024 03:37 927  
[   ]buildsrc-summary.dcf15-Jun-2024 03:37 461  
[TXT]checksrc-out.txt15-Jun-2024 03:37 4.4K 
[   ]checksrc-summary.dcf15-Jun-2024 03:37 472  
[TXT]install-out.txt15-Jun-2024 03:37 5.4K 
[   ]install-summary.dcf15-Jun-2024 03:37 288