Name | Last modified | Size | Description | |
---|---|---|---|---|
Parent Directory | - | |||
buildbin-out.txt | 24-Jul-2024 22:05 | 7.7K | ||
buildbin-summary.dcf | 24-Jul-2024 22:05 | 618 | ||
checksrc-summary.dcf | 24-Jul-2024 22:05 | 502 | ||
checksrc-out.txt | 24-Jul-2024 22:05 | 4.6K | ||
buildsrc-summary.dcf | 24-Jul-2024 22:05 | 471 | ||
buildsrc-out.txt | 24-Jul-2024 22:05 | 937 | ||
install-out.txt | 24-Jul-2024 22:05 | 3.7K | ||
install-summary.dcf | 24-Jul-2024 22:05 | 299 | ||