Index of /checkResults/release/bioc-LATEST/DifferentialRegulation/raw-results/merida1

[ICO]NameLast modifiedSizeDescription

[DIR]Parent Directory  -  
[TXT]buildbin-out.txt05-Mar-2024 01:39 7.7K 
[   ]buildbin-summary.dcf05-Mar-2024 01:39 618  
[TXT]buildsrc-out.txt05-Mar-2024 01:39 937  
[   ]buildsrc-summary.dcf05-Mar-2024 01:39 471  
[TXT]checksrc-out.txt05-Mar-2024 01:39 4.3K 
[   ]checksrc-summary.dcf05-Mar-2024 01:39 502  
[TXT]install-out.txt05-Mar-2024 01:39 3.6K 
[   ]install-summary.dcf05-Mar-2024 01:39 299