Index of /checkResults/release/bioc-LATEST/DifferentialRegulation/raw-results/lconway

[ICO]NameLast modifiedSizeDescription

[DIR]Parent Directory  -  
[TXT]buildbin-out.txt31-May-2024 00:35 7.7K 
[   ]buildbin-summary.dcf31-May-2024 00:35 617  
[TXT]buildsrc-out.txt31-May-2024 00:35 937  
[   ]buildsrc-summary.dcf31-May-2024 00:35 471  
[TXT]checksrc-out.txt31-May-2024 00:35 4.5K 
[   ]checksrc-summary.dcf31-May-2024 00:35 502  
[TXT]install-out.txt31-May-2024 00:35 3.7K 
[   ]install-summary.dcf31-May-2024 00:35 298